BEGIN:VCALENDAR
VERSION:2.0
PRODID:-//Junction Arts &amp; Media - ECPv6.15.14//NONSGML v1.0//EN
CALSCALE:GREGORIAN
METHOD:PUBLISH
X-WR-CALNAME:Junction Arts &amp; Media
X-ORIGINAL-URL:https://uvjam.org
X-WR-CALDESC:Events for Junction Arts &amp; Media
REFRESH-INTERVAL;VALUE=DURATION:PT1H
X-Robots-Tag:noindex
X-PUBLISHED-TTL:PT1H
BEGIN:VTIMEZONE
TZID:America/New_York
BEGIN:DAYLIGHT
TZOFFSETFROM:-0500
TZOFFSETTO:-0400
TZNAME:EDT
DTSTART:20220313T070000
END:DAYLIGHT
BEGIN:STANDARD
TZOFFSETFROM:-0400
TZOFFSETTO:-0500
TZNAME:EST
DTSTART:20221106T060000
END:STANDARD
BEGIN:DAYLIGHT
TZOFFSETFROM:-0500
TZOFFSETTO:-0400
TZNAME:EDT
DTSTART:20230312T070000
END:DAYLIGHT
BEGIN:STANDARD
TZOFFSETFROM:-0400
TZOFFSETTO:-0500
TZNAME:EST
DTSTART:20231105T060000
END:STANDARD
BEGIN:DAYLIGHT
TZOFFSETFROM:-0500
TZOFFSETTO:-0400
TZNAME:EDT
DTSTART:20240310T070000
END:DAYLIGHT
BEGIN:STANDARD
TZOFFSETFROM:-0400
TZOFFSETTO:-0500
TZNAME:EST
DTSTART:20241103T060000
END:STANDARD
END:VTIMEZONE
BEGIN:VEVENT
DTSTART;TZID=America/New_York:20231009T090000
DTEND;TZID=America/New_York:20231024T170000
DTSTAMP:20260425T165343
CREATED:20230802T155110Z
LAST-MODIFIED:20240513T110222Z
UID:10000482-1696842000-1698166800@uvjam.org
SUMMARY:Climate Farmer Stories Exhibit at JAM
DESCRIPTION:For the month of October JAM will display “Climate Farmer Stories\,” a new multimedia exhibit that shares the stories and portraits of 13 Upper Valley farmers who are using agricultural methods that mitigate and adapt to climate change and help build a food supply that can withstand the impact of climate disruption.  The exhibit is one part of Vital Communities’ Climate Farmer Stories project\, a three-year effort to increase farmer income while changing the perception about farming and climate change. Funded by the US Department of Agriculture\, the project brings together Upper Valley farmers\, artists\, and nonprofit staff to change the story of farming and climate change\, while increasing the marketing skills and resources for participating farmers. “Addressing climate change through food requires us to get back to the roots of farming\,” said Nancy LaRowe\, Vital Communities’ Director of Food & Farm and Economy. “Climate farmers can help mitigate climate change by returning to farming practices that strive to support natural systems\, as opposed to scaling up with more ‘efficient’ technologies that are denigrating natural ecosystems. This is the hopeful story that needs to be shared as we see and experience the impacts of the climate crisis. People can choose how to spend their food dollars\, and buying local food from climate conscious farmers is an investment in community resilience and climate action.” 
URL:https://uvjam.org/event/climate-farmer-stories-exhibit-at-jam/
LOCATION:JAM – Junction Arts & Media\, 5 S Main St\, White River Junction\, VT\, 05001\, United States
CATEGORIES:Community Events,Media Arts Installation,Past Events
ATTACH;FMTTYPE=image/png:https://uvjam.org/wp-content/uploads/2023/08/climate-farmer-stamp-small-1.png
END:VEVENT
END:VCALENDAR