BEGIN:VCALENDAR
VERSION:2.0
PRODID:-//Junction Arts &amp; Media - ECPv6.15.14//NONSGML v1.0//EN
CALSCALE:GREGORIAN
METHOD:PUBLISH
X-ORIGINAL-URL:https://uvjam.org
X-WR-CALDESC:Events for Junction Arts &amp; Media
REFRESH-INTERVAL;VALUE=DURATION:PT1H
X-Robots-Tag:noindex
X-PUBLISHED-TTL:PT1H
BEGIN:VTIMEZONE
TZID:America/New_York
BEGIN:DAYLIGHT
TZOFFSETFROM:-0500
TZOFFSETTO:-0400
TZNAME:EDT
DTSTART:20230312T070000
END:DAYLIGHT
BEGIN:STANDARD
TZOFFSETFROM:-0400
TZOFFSETTO:-0500
TZNAME:EST
DTSTART:20231105T060000
END:STANDARD
BEGIN:DAYLIGHT
TZOFFSETFROM:-0500
TZOFFSETTO:-0400
TZNAME:EDT
DTSTART:20240310T070000
END:DAYLIGHT
BEGIN:STANDARD
TZOFFSETFROM:-0400
TZOFFSETTO:-0500
TZNAME:EST
DTSTART:20241103T060000
END:STANDARD
BEGIN:DAYLIGHT
TZOFFSETFROM:-0500
TZOFFSETTO:-0400
TZNAME:EDT
DTSTART:20250309T070000
END:DAYLIGHT
BEGIN:STANDARD
TZOFFSETFROM:-0400
TZOFFSETTO:-0500
TZNAME:EST
DTSTART:20251102T060000
END:STANDARD
END:VTIMEZONE
BEGIN:VEVENT
DTSTART;TZID=America/New_York:20240118T180000
DTEND;TZID=America/New_York:20240118T193000
DTSTAMP:20260422T104013
CREATED:20240102T171601Z
LAST-MODIFIED:20240513T110218Z
UID:10000789-1705600800-1705606200@uvjam.org
SUMMARY:Story JAM: Bi-Monthly Storytelling Circle - Theme: “I can’t believe I did that!”
DESCRIPTION:In a society increasingly divided and isolated\, storytelling can bring us together.\n\nStory Jam is a bi-monthly story circle where community members can meet to get to know each other through personal stories. All members of the Upper Valley community are invited to join the circle and share an unrehearsed 5-minute true story from their own life. No competition\, no judgment\, no lecturing\, no ranting… Just share a story about something that happened to you and listen to other people’s stories. Whether you are a new or seasoned storyteller; whether you are shy or extroverted – all are welcome! The moderators will keep track of time to make sure everyone has a chance to speak.\nThe next circle will be held on Thursday\, January 18th from 6:00-7:30 PM\nFor more info\, reach us at storyjam@uvjam.org
URL:https://uvjam.org/event/story-jam-bi-monthly-storytelling-circle-4-2/
LOCATION:JAM – Junction Arts & Media\, 5 S Main St\, White River Junction\, VT\, 05001\, United States
CATEGORIES:Community Events,Past Events
ATTACH;FMTTYPE=image/png:https://uvjam.org/wp-content/uploads/2023/01/storyjam-graphic-updated.png
END:VEVENT
END:VCALENDAR