BEGIN:VCALENDAR
VERSION:2.0
PRODID:-//Junction Arts &amp; Media - ECPv6.15.14//NONSGML v1.0//EN
CALSCALE:GREGORIAN
METHOD:PUBLISH
X-ORIGINAL-URL:https://uvjam.org
X-WR-CALDESC:Events for Junction Arts &amp; Media
REFRESH-INTERVAL;VALUE=DURATION:PT1H
X-Robots-Tag:noindex
X-PUBLISHED-TTL:PT1H
BEGIN:VTIMEZONE
TZID:America/New_York
BEGIN:DAYLIGHT
TZOFFSETFROM:-0500
TZOFFSETTO:-0400
TZNAME:EDT
DTSTART:20240310T070000
END:DAYLIGHT
BEGIN:STANDARD
TZOFFSETFROM:-0400
TZOFFSETTO:-0500
TZNAME:EST
DTSTART:20241103T060000
END:STANDARD
BEGIN:DAYLIGHT
TZOFFSETFROM:-0500
TZOFFSETTO:-0400
TZNAME:EDT
DTSTART:20250309T070000
END:DAYLIGHT
BEGIN:STANDARD
TZOFFSETFROM:-0400
TZOFFSETTO:-0500
TZNAME:EST
DTSTART:20251102T060000
END:STANDARD
BEGIN:DAYLIGHT
TZOFFSETFROM:-0500
TZOFFSETTO:-0400
TZNAME:EDT
DTSTART:20260308T070000
END:DAYLIGHT
BEGIN:STANDARD
TZOFFSETFROM:-0400
TZOFFSETTO:-0500
TZNAME:EST
DTSTART:20261101T060000
END:STANDARD
END:VTIMEZONE
BEGIN:VEVENT
DTSTART;TZID=America/New_York:20251001T080000
DTEND;TZID=America/New_York:20251029T170000
DTSTAMP:20260423T175127
CREATED:20250916T203651Z
LAST-MODIFIED:20251001T212452Z
UID:10001783-1759305600-1761757200@uvjam.org
SUMMARY:Animation Loops 2025
DESCRIPTION:On display through October during JAM’s open hours. In animation\, a loop is a continuous sequence of frames that repeats endlessly. Animators use loops because they are an efficient way to create seamless motion. These animations by local artists are an eclectic mix of bits\, bobs\, cycles\, and loops that we thought deserved to be watched over and over! \nFeaturing animations by\nDelfi Strazzolini \nSierra Carson \nJames Underwood \nMargaret Bone \nMiranda Matthews \nEllie Liota \nSierra Edwards \nMatthew DeFelice \nRene Gerrior \nAlex Roberts \nIngrid Roberts \nDave \nAnnabelle Cone \nParker Gollub \nNoah Mauchly \nRachel Bernsen \nJenna Jurgelewicz \n  \n 
URL:https://uvjam.org/event/animation-loops/
LOCATION:JAM – Junction Arts & Media\, 5 S Main St\, White River Junction\, VT\, 05001\, United States
ATTACH;FMTTYPE=image/png:https://uvjam.org/wp-content/uploads/2025/09/Community-Animation-Loops-scaled.png
END:VEVENT
END:VCALENDAR