BEGIN:VCALENDAR
VERSION:2.0
PRODID:-//Junction Arts &amp; Media - ECPv6.15.14//NONSGML v1.0//EN
CALSCALE:GREGORIAN
METHOD:PUBLISH
X-WR-CALNAME:Junction Arts &amp; Media
X-ORIGINAL-URL:https://uvjam.org
X-WR-CALDESC:Events for Junction Arts &amp; Media
REFRESH-INTERVAL;VALUE=DURATION:PT1H
X-Robots-Tag:noindex
X-PUBLISHED-TTL:PT1H
BEGIN:VTIMEZONE
TZID:America/New_York
BEGIN:DAYLIGHT
TZOFFSETFROM:-0500
TZOFFSETTO:-0400
TZNAME:EDT
DTSTART:20240310T070000
END:DAYLIGHT
BEGIN:STANDARD
TZOFFSETFROM:-0400
TZOFFSETTO:-0500
TZNAME:EST
DTSTART:20241103T060000
END:STANDARD
BEGIN:DAYLIGHT
TZOFFSETFROM:-0500
TZOFFSETTO:-0400
TZNAME:EDT
DTSTART:20250309T070000
END:DAYLIGHT
BEGIN:STANDARD
TZOFFSETFROM:-0400
TZOFFSETTO:-0500
TZNAME:EST
DTSTART:20251102T060000
END:STANDARD
BEGIN:DAYLIGHT
TZOFFSETFROM:-0500
TZOFFSETTO:-0400
TZNAME:EDT
DTSTART:20260308T070000
END:DAYLIGHT
BEGIN:STANDARD
TZOFFSETFROM:-0400
TZOFFSETTO:-0500
TZNAME:EST
DTSTART:20261101T060000
END:STANDARD
END:VTIMEZONE
BEGIN:VEVENT
DTSTART;TZID=America/New_York:20251103T090000
DTEND;TZID=America/New_York:20251130T170000
DTSTAMP:20260423T133613
CREATED:20250804T165622Z
LAST-MODIFIED:20250804T174500Z
UID:10001772-1762160400-1764522000@uvjam.org
SUMMARY:Bambi in Blue\, re-story of body: Exhibit by Casey Carney
DESCRIPTION:“Bambi in Blue\, re-story of body” shares a range of creative work including drawings\, video\, poetry and dance by local artist Casey Carney. The healing power of somatic expressive arts as an anchor to an integrated and shared healing process is a central theme of this multi-media exploration. \nExhibit open 9-5 M-F and during JAM events.  A somatic workshop taught by the artist in partnership with Open Door Integrative Wellness will accompany this exhibit on Saturday November 8\, 1-3:30pm. \nABOUT THE INSTRUCTOR\nCasey Carney (they/them) is an artist and educator who is engaged in poetry\, photography\, videography\, drawing and dance. They have a passion for somatic expressive arts\, and believe that the body holds an intrinsic power of healing through integrating movement awareness\, life themes and artistic forms. Casey holds a M.A. in Dance Education\, and a Level 1 Certification from Tamalpa Institute\, founded by Anna Halprin and Daria Halprin\, leading pioneers in the field of movement/dance education and therapy. Casey was the 2014-2016 Poet Laureate of Lake County\, California\, where they led numerous community workshops and events
URL:https://uvjam.org/event/bambi-in-blue-re-story-of-body-exhibit-by-casey-carney/
LOCATION:JAM – Junction Arts & Media\, 5 S Main St\, White River Junction\, VT\, 05001\, United States
ATTACH;FMTTYPE=image/jpeg:https://uvjam.org/wp-content/uploads/2025/08/BambiInBlueCCarney-scaled.jpg
END:VEVENT
BEGIN:VEVENT
DTSTART;TZID=America/New_York:20251108T110000
DTEND;TZID=America/New_York:20251108T124500
DTSTAMP:20260423T133613
CREATED:20251104T201556Z
LAST-MODIFIED:20251107T195403Z
UID:10001790-1762599600-1762605900@uvjam.org
SUMMARY:Lego Animation Workshop @ Norwich Library
DESCRIPTION:Families are invited to learn basic stop motion animation using legos! Recommended for elementary and middle school aged kids. 100% free thanks to generous support from the Norwich Women’s Club. \nDue to the popularity of our previous workshop\, we are offering two time slots. Please RSVP as our capacity is limited! *UPDATE: WORKSHOP IS FULL!* \nNOTE: Please plan to stay and learn with your children during this workshop.  \nThis event was made possible with funding from the Norwich Women’s Club and in partnership with Norwich Public Library Youth Services.
URL:https://uvjam.org/event/lego-animation-workshop-norwich-library-2-2/
LOCATION:JAM – Junction Arts & Media\, 5 S Main St\, White River Junction\, VT\, 05001\, United States
ATTACH;FMTTYPE=image/png:https://uvjam.org/wp-content/uploads/2025/10/Lego_Animation-scaled.png
END:VEVENT
BEGIN:VEVENT
DTSTART;TZID=America/New_York:20251108T130000
DTEND;TZID=America/New_York:20251108T153000
DTSTAMP:20260423T133613
CREATED:20250804T170417Z
LAST-MODIFIED:20251020T180314Z
UID:10001773-1762606800-1762615800@uvjam.org
SUMMARY:Somatic Art Workshop with Casey Carney
DESCRIPTION:Lead by JAM exhibiting artist Casey Carney\, participants in this workshop will be guided through a somatic expressive arts movement/drawing/imaginative writing workshop to explore personal and shared themes. The workshop is an introduction to the Tamalpa Institute Life/Art Process originated and developed for the past five decades by leading somatic expressive arts pioneers Anna Halprin and Daria Halprin in Marin\, California. \nThis workshop is full. Email cedar@uvjam.org to be added to our waitlist! Free and all ages(adults must accompany/supervise children under 14). \nBambi in Blue\, re-story of body: Exhibit by Casey Carney open 9-5 M-F and during JAM events. \nABOUT THE INSTRUCTOR\nCasey Carney (they/them) is an artist and educator who is engaged in poetry\, photography\, videography\, drawing and dance. They have a passion for somatic expressive arts\, and believe that the body holds an intrinsic power of healing through integrating movement awareness\, life themes and artistic forms. Casey holds a M.A. in Dance Education\, and a Level 1 Certification from Tamalpa Institute\, founded by Anna Halprin and Daria Halprin\, leading pioneers in the field of movement/dance education and therapy. Casey was the 2014-2016 Poet Laureate of Lake County\, California\, where they led numerous community workshops and events. \n  \n\nIn partnership with Open Door Integrative Wellness
URL:https://uvjam.org/event/somatic-art-workshop/
LOCATION:Open Door Integrative Wellness\, 18 N Main St.\, White River Junction\, 05001\, United States
ATTACH;FMTTYPE=image/jpeg:https://uvjam.org/wp-content/uploads/2025/08/WorkshopImageCCarney.jpeg
END:VEVENT
BEGIN:VEVENT
DTSTART;TZID=America/New_York:20251108T131500
DTEND;TZID=America/New_York:20251108T150000
DTSTAMP:20260423T133613
CREATED:20251021T184004Z
LAST-MODIFIED:20251107T195525Z
UID:10001791-1762607700-1762614000@uvjam.org
SUMMARY:Lego Animation Workshop @ Norwich Library
DESCRIPTION:Families are invited to learn basic stop motion animation using legos! Recommended for elementary and middle school aged kids. 100% free thanks to generous support from the Norwich Women’s Club. \nDue to the popularity of our previous workshop\, we are offering two time slots. Please RSVP as our capacity is limited! *UPDATE: WORKSHOP IS FULL!* \nNOTE: Please plan to stay and learn with your children during this workshop. \nThis event was made possible with funding from the Norwich Women’s Club and in partnership with Norwich Public Library Youth Services.
URL:https://uvjam.org/event/lego-animation-workshop-norwich-library-2/
LOCATION:JAM – Junction Arts & Media\, 5 S Main St\, White River Junction\, VT\, 05001\, United States
ATTACH;FMTTYPE=image/png:https://uvjam.org/wp-content/uploads/2025/10/Lego_Animation-scaled.png
END:VEVENT
END:VCALENDAR