BEGIN:VCALENDAR
VERSION:2.0
PRODID:-//Junction Arts &amp; Media - ECPv6.15.14//NONSGML v1.0//EN
CALSCALE:GREGORIAN
METHOD:PUBLISH
X-WR-CALNAME:Junction Arts &amp; Media
X-ORIGINAL-URL:https://uvjam.org
X-WR-CALDESC:Events for Junction Arts &amp; Media
REFRESH-INTERVAL;VALUE=DURATION:PT1H
X-Robots-Tag:noindex
X-PUBLISHED-TTL:PT1H
BEGIN:VTIMEZONE
TZID:America/New_York
BEGIN:DAYLIGHT
TZOFFSETFROM:-0500
TZOFFSETTO:-0400
TZNAME:EDT
DTSTART:20250309T070000
END:DAYLIGHT
BEGIN:STANDARD
TZOFFSETFROM:-0400
TZOFFSETTO:-0500
TZNAME:EST
DTSTART:20251102T060000
END:STANDARD
BEGIN:DAYLIGHT
TZOFFSETFROM:-0500
TZOFFSETTO:-0400
TZNAME:EDT
DTSTART:20260308T070000
END:DAYLIGHT
BEGIN:STANDARD
TZOFFSETFROM:-0400
TZOFFSETTO:-0500
TZNAME:EST
DTSTART:20261101T060000
END:STANDARD
BEGIN:DAYLIGHT
TZOFFSETFROM:-0500
TZOFFSETTO:-0400
TZNAME:EDT
DTSTART:20270314T070000
END:DAYLIGHT
BEGIN:STANDARD
TZOFFSETFROM:-0400
TZOFFSETTO:-0500
TZNAME:EST
DTSTART:20271107T060000
END:STANDARD
END:VTIMEZONE
BEGIN:VEVENT
DTSTART;TZID=America/New_York:20260304T090000
DTEND;TZID=America/New_York:20260304T100000
DTSTAMP:20260421T194633
CREATED:20260211T033908Z
LAST-MODIFIED:20260211T033951Z
UID:10001940-1772614800-1772618400@uvjam.org
SUMMARY:(Coffee &) Tea with JAM and Bread
DESCRIPTION:It’s exactly what you think it is! Come hang out in JAM before that early morning screening and fuel up for a full day of festival going with a selection of– you guessed it\, coffee\, tea\, jam\, and breads galore!
URL:https://uvjam.org/event/coffee-tea-with-jam-and-bread/2026-03-04/
LOCATION:JAM – Junction Arts & Media\, 5 S Main St\, White River Junction\, VT\, 05001\, United States
CATEGORIES:Community Events
ATTACH;FMTTYPE=image/png:https://uvjam.org/wp-content/uploads/2026/02/coffee-and-tea.png
END:VEVENT
BEGIN:VEVENT
DTSTART;TZID=America/New_York:20260304T120000
DTEND;TZID=America/New_York:20260304T130000
DTSTAMP:20260421T194633
CREATED:20260129T203401Z
LAST-MODIFIED:20260225T200221Z
UID:10001915-1772625600-1772629200@uvjam.org
SUMMARY:Brown Bag Lunch: StoryJam
DESCRIPTION:As part of the White River Indie Film Festival (WRIF) we are holding a special pop-up StoryJam. Bring a lunch and join us in the JAM space for StoryJAM\, an informal and inclusive storytelling circle where you are invited to share an unrehearsed 5-minute true story from your own life. If you don’t have a story\, just come and listen.\n\nThe theme is: “Drama” \n\nAs always\, the theme is fluid and open to your personal interpretation. If you have a good story that doesn’t exactly fit the theme\, you are absolutely welcome to tell it. No RSVP required\, the event is free and open to the public. All are welcome!
URL:https://uvjam.org/event/brown-bag-lunch-storyjam/
LOCATION:JAM – Junction Arts & Media\, 5 S Main St\, White River Junction\, VT\, 05001\, United States
CATEGORIES:Community Events
ATTACH;FMTTYPE=image/png:https://uvjam.org/wp-content/uploads/2026/01/Story_Jam.png
END:VEVENT
BEGIN:VEVENT
DTSTART;TZID=America/New_York:20260304T190000
DTEND;TZID=America/New_York:20260304T213000
DTSTAMP:20260421T194633
CREATED:20260129T203311Z
LAST-MODIFIED:20260303T190558Z
UID:10001914-1772650800-1772659800@uvjam.org
SUMMARY:RESCHEDULED! The JAM Movie: Live Screenplay Table Read
DESCRIPTION:Announcement: due to inclement weather tonight (Tuesday 3/3) this event has been rescheduled. The new date is Wednesday 3/4 at 7PM.\nJAM’s making a movie! This summer\, JAM will launch its first ever Summer Feature Film Intensive where participants will join the JAM crew as we create a feature film right here in the Upper Valley! \nThe script is here and we’re ready for you to read it! We will take audience volunteers to read parts live as we work through the entire script and open it up to community feedback. \nRVSP HERE \n 
URL:https://uvjam.org/event/the-jam-movie-live-screenplay-table-read/
LOCATION:Private: Northern Stage\, 74 Gates St\, White River Junction\, VT\, 05001\, United States
CATEGORIES:Community Events,Live Performance
ATTACH;FMTTYPE=image/png:https://uvjam.org/wp-content/uploads/2026/01/rescheduled-correct.png
END:VEVENT
END:VCALENDAR