BEGIN:VCALENDAR
VERSION:2.0
PRODID:-//Junction Arts &amp; Media - ECPv6.15.14//NONSGML v1.0//EN
CALSCALE:GREGORIAN
METHOD:PUBLISH
X-WR-CALNAME:Junction Arts &amp; Media
X-ORIGINAL-URL:https://uvjam.org
X-WR-CALDESC:Events for Junction Arts &amp; Media
REFRESH-INTERVAL;VALUE=DURATION:PT1H
X-Robots-Tag:noindex
X-PUBLISHED-TTL:PT1H
BEGIN:VTIMEZONE
TZID:America/New_York
BEGIN:DAYLIGHT
TZOFFSETFROM:-0500
TZOFFSETTO:-0400
TZNAME:EDT
DTSTART:20250309T070000
END:DAYLIGHT
BEGIN:STANDARD
TZOFFSETFROM:-0400
TZOFFSETTO:-0500
TZNAME:EST
DTSTART:20251102T060000
END:STANDARD
BEGIN:DAYLIGHT
TZOFFSETFROM:-0500
TZOFFSETTO:-0400
TZNAME:EDT
DTSTART:20260308T070000
END:DAYLIGHT
BEGIN:STANDARD
TZOFFSETFROM:-0400
TZOFFSETTO:-0500
TZNAME:EST
DTSTART:20261101T060000
END:STANDARD
BEGIN:DAYLIGHT
TZOFFSETFROM:-0500
TZOFFSETTO:-0400
TZNAME:EDT
DTSTART:20270314T070000
END:DAYLIGHT
BEGIN:STANDARD
TZOFFSETFROM:-0400
TZOFFSETTO:-0500
TZNAME:EST
DTSTART:20271107T060000
END:STANDARD
END:VTIMEZONE
BEGIN:VEVENT
DTSTART;TZID=America/New_York:20260305T173000
DTEND;TZID=America/New_York:20260305T193000
DTSTAMP:20260420T101449
CREATED:20260129T204936Z
LAST-MODIFIED:20260211T052949Z
UID:10001920-1772731800-1772739000@uvjam.org
SUMMARY:#PitchFest 4.0
DESCRIPTION:Be a live audience member in our shark tank style pitch competition show. Alongside our panel of judges\, listen to community members pitch their dream projects in five minutes or less\, then vote on what project you would like to see brought to life here in the Upper Valley.
URL:https://uvjam.org/event/pitchfest-4-0/
LOCATION:Briggs Opera House\, 5 S Main St\, White River Junction\, VT\, 05001\, United States
CATEGORIES:Film Competitions,Live Performance
ATTACH;FMTTYPE=image/png:https://uvjam.org/wp-content/uploads/2026/01/pitchfest-graphic-scaled.png
END:VEVENT
END:VCALENDAR