BEGIN:VCALENDAR
VERSION:2.0
PRODID:-//Junction Arts &amp; Media - ECPv6.15.14//NONSGML v1.0//EN
CALSCALE:GREGORIAN
METHOD:PUBLISH
X-ORIGINAL-URL:https://uvjam.org
X-WR-CALDESC:Events for Junction Arts &amp; Media
REFRESH-INTERVAL;VALUE=DURATION:PT1H
X-Robots-Tag:noindex
X-PUBLISHED-TTL:PT1H
BEGIN:VTIMEZONE
TZID:America/New_York
BEGIN:DAYLIGHT
TZOFFSETFROM:-0500
TZOFFSETTO:-0400
TZNAME:EDT
DTSTART:20210314T070000
END:DAYLIGHT
BEGIN:STANDARD
TZOFFSETFROM:-0400
TZOFFSETTO:-0500
TZNAME:EST
DTSTART:20211107T060000
END:STANDARD
BEGIN:DAYLIGHT
TZOFFSETFROM:-0500
TZOFFSETTO:-0400
TZNAME:EDT
DTSTART:20220313T070000
END:DAYLIGHT
BEGIN:STANDARD
TZOFFSETFROM:-0400
TZOFFSETTO:-0500
TZNAME:EST
DTSTART:20221106T060000
END:STANDARD
BEGIN:DAYLIGHT
TZOFFSETFROM:-0500
TZOFFSETTO:-0400
TZNAME:EDT
DTSTART:20230312T070000
END:DAYLIGHT
BEGIN:STANDARD
TZOFFSETFROM:-0400
TZOFFSETTO:-0500
TZNAME:EST
DTSTART:20231105T060000
END:STANDARD
BEGIN:DAYLIGHT
TZOFFSETFROM:-0500
TZOFFSETTO:-0400
TZNAME:EDT
DTSTART:20240310T070000
END:DAYLIGHT
BEGIN:STANDARD
TZOFFSETFROM:-0400
TZOFFSETTO:-0500
TZNAME:EST
DTSTART:20241103T060000
END:STANDARD
END:VTIMEZONE
BEGIN:VEVENT
DTSTART;TZID=America/New_York:20230403T183000
DTEND;TZID=America/New_York:20230403T200000
DTSTAMP:20260422T120143
CREATED:20220909T200717Z
LAST-MODIFIED:20221216T151747Z
UID:10000344-1680546600-1680552000@uvjam.org
SUMMARY:JAM Scriptwriters' Group
DESCRIPTION:Gather bi-weekly with a dedicated group to meet talented local writers\, learn new script writing techniques\, and receive peer feedback on your work. \nMeetings are free of charge and not mandatory\, but we encourage consistent participation to get the most out of this group! \nFor more information and to register\, click HERE.
URL:https://uvjam.org/event/scriptwritersgroup/2023-04-03/
LOCATION:JAM – Junction Arts & Media\, 5 S Main St\, White River Junction\, VT\, 05001\, United States
CATEGORIES:Media Education
ATTACH;FMTTYPE=image/png:https://uvjam.org/wp-content/uploads/2022/09/scriptwriters-group-cover-image-2.png
END:VEVENT
BEGIN:VEVENT
DTSTART;TZID=America/New_York:20230322T153000
DTEND;TZID=America/New_York:20230322T173000
DTSTAMP:20260422T120143
CREATED:20221129T224433Z
LAST-MODIFIED:20221129T224433Z
UID:10000380-1679499000-1679506200@uvjam.org
SUMMARY:JAM Film Club
DESCRIPTION:It’s an after-school film club! Join us in the JAM space every Wednesday and connect with other young filmmakers. Learn what goes into making a movie\, then put it to use making your own. All equipment will be provided. \nFor more information and to register\, click HERE.
URL:https://uvjam.org/event/jam-film-club/2023-03-22/
LOCATION:JAM – Junction Arts & Media\, 5 S Main St\, White River Junction\, VT\, 05001\, United States
CATEGORIES:Media Education
ATTACH;FMTTYPE=image/png:https://uvjam.org/wp-content/uploads/2022/09/jam-film-club-cover-image-close-up-right.png
END:VEVENT
BEGIN:VEVENT
DTSTART;TZID=America/New_York:20230320T183000
DTEND;TZID=America/New_York:20230320T200000
DTSTAMP:20260422T120143
CREATED:20220909T200717Z
LAST-MODIFIED:20221216T151747Z
UID:10000343-1679337000-1679342400@uvjam.org
SUMMARY:JAM Scriptwriters' Group
DESCRIPTION:Gather bi-weekly with a dedicated group to meet talented local writers\, learn new script writing techniques\, and receive peer feedback on your work. \nMeetings are free of charge and not mandatory\, but we encourage consistent participation to get the most out of this group! \nFor more information and to register\, click HERE.
URL:https://uvjam.org/event/scriptwritersgroup/2023-03-20/
LOCATION:JAM – Junction Arts & Media\, 5 S Main St\, White River Junction\, VT\, 05001\, United States
CATEGORIES:Media Education
ATTACH;FMTTYPE=image/png:https://uvjam.org/wp-content/uploads/2022/09/scriptwriters-group-cover-image-2.png
END:VEVENT
BEGIN:VEVENT
DTSTART;TZID=America/New_York:20230315T153000
DTEND;TZID=America/New_York:20230315T173000
DTSTAMP:20260422T120143
CREATED:20221129T224433Z
LAST-MODIFIED:20221129T224433Z
UID:10000379-1678894200-1678901400@uvjam.org
SUMMARY:JAM Film Club
DESCRIPTION:It’s an after-school film club! Join us in the JAM space every Wednesday and connect with other young filmmakers. Learn what goes into making a movie\, then put it to use making your own. All equipment will be provided. \nFor more information and to register\, click HERE.
URL:https://uvjam.org/event/jam-film-club/2023-03-15/
LOCATION:JAM – Junction Arts & Media\, 5 S Main St\, White River Junction\, VT\, 05001\, United States
CATEGORIES:Media Education
ATTACH;FMTTYPE=image/png:https://uvjam.org/wp-content/uploads/2022/09/jam-film-club-cover-image-close-up-right.png
END:VEVENT
BEGIN:VEVENT
DTSTART;TZID=America/New_York:20230308T153000
DTEND;TZID=America/New_York:20230308T173000
DTSTAMP:20260422T120143
CREATED:20221129T224433Z
LAST-MODIFIED:20221129T224433Z
UID:10000378-1678289400-1678296600@uvjam.org
SUMMARY:JAM Film Club
DESCRIPTION:It’s an after-school film club! Join us in the JAM space every Wednesday and connect with other young filmmakers. Learn what goes into making a movie\, then put it to use making your own. All equipment will be provided. \nFor more information and to register\, click HERE.
URL:https://uvjam.org/event/jam-film-club/2023-03-08/
LOCATION:JAM – Junction Arts & Media\, 5 S Main St\, White River Junction\, VT\, 05001\, United States
CATEGORIES:Media Education
ATTACH;FMTTYPE=image/png:https://uvjam.org/wp-content/uploads/2022/09/jam-film-club-cover-image-close-up-right.png
END:VEVENT
BEGIN:VEVENT
DTSTART;TZID=America/New_York:20230306T183000
DTEND;TZID=America/New_York:20230306T200000
DTSTAMP:20260422T120143
CREATED:20220909T200717Z
LAST-MODIFIED:20221216T151747Z
UID:10000342-1678127400-1678132800@uvjam.org
SUMMARY:JAM Scriptwriters' Group
DESCRIPTION:Gather bi-weekly with a dedicated group to meet talented local writers\, learn new script writing techniques\, and receive peer feedback on your work. \nMeetings are free of charge and not mandatory\, but we encourage consistent participation to get the most out of this group! \nFor more information and to register\, click HERE.
URL:https://uvjam.org/event/scriptwritersgroup/2023-03-06/
LOCATION:JAM – Junction Arts & Media\, 5 S Main St\, White River Junction\, VT\, 05001\, United States
CATEGORIES:Media Education
ATTACH;FMTTYPE=image/png:https://uvjam.org/wp-content/uploads/2022/09/scriptwriters-group-cover-image-2.png
END:VEVENT
BEGIN:VEVENT
DTSTART;TZID=America/New_York:20230301T153000
DTEND;TZID=America/New_York:20230301T173000
DTSTAMP:20260422T120143
CREATED:20221129T224433Z
LAST-MODIFIED:20221129T224433Z
UID:10000377-1677684600-1677691800@uvjam.org
SUMMARY:JAM Film Club
DESCRIPTION:It’s an after-school film club! Join us in the JAM space every Wednesday and connect with other young filmmakers. Learn what goes into making a movie\, then put it to use making your own. All equipment will be provided. \nFor more information and to register\, click HERE.
URL:https://uvjam.org/event/jam-film-club/2023-03-01/
LOCATION:JAM – Junction Arts & Media\, 5 S Main St\, White River Junction\, VT\, 05001\, United States
CATEGORIES:Media Education
ATTACH;FMTTYPE=image/png:https://uvjam.org/wp-content/uploads/2022/09/jam-film-club-cover-image-close-up-right.png
END:VEVENT
BEGIN:VEVENT
DTSTART;TZID=America/New_York:20230225T100000
DTEND;TZID=America/New_York:20230225T140000
DTSTAMP:20260422T120143
CREATED:20230216T141331Z
LAST-MODIFIED:20230216T141331Z
UID:10000457-1677319200-1677333600@uvjam.org
SUMMARY:Fun with Green Screens!  FREE Media Lab
DESCRIPTION:Wanna go to space? We can take you there! This weekend intensive is all about green screens. Why to use them\, how to use them\, and everything in between. Participants will learn how to set up green screens\, light them for filming\, and how to edit that footage in post to create transportive backdrops from your wildest imagination. We will also explore practical and optical effects that can be used in conjunction with a green screen to truly make that movie magic come to life. Suited for all levels\, ages 12 and older\, no previous experience required.  All equipment will be provided. \n\nJAM Media Lab Leaders: Chico Eastridge & Jordyn Fitch\nRegistration Fee: Free! RSVP Required\n\nRSVP HERE!
URL:https://uvjam.org/event/fun-with-green-screens-free-media-lab/
LOCATION:JAM – Junction Arts & Media\, 5 S Main St\, White River Junction\, VT\, 05001\, United States
CATEGORIES:Community Events,Media Education
ATTACH;FMTTYPE=image/jpeg:https://uvjam.org/wp-content/uploads/2023/01/IMG-1003-2.jpg
END:VEVENT
BEGIN:VEVENT
DTSTART;TZID=America/New_York:20230222T153000
DTEND;TZID=America/New_York:20230222T173000
DTSTAMP:20260422T120143
CREATED:20221129T224433Z
LAST-MODIFIED:20221129T224433Z
UID:10000376-1677079800-1677087000@uvjam.org
SUMMARY:JAM Film Club
DESCRIPTION:It’s an after-school film club! Join us in the JAM space every Wednesday and connect with other young filmmakers. Learn what goes into making a movie\, then put it to use making your own. All equipment will be provided. \nFor more information and to register\, click HERE.
URL:https://uvjam.org/event/jam-film-club/2023-02-22/
LOCATION:JAM – Junction Arts & Media\, 5 S Main St\, White River Junction\, VT\, 05001\, United States
CATEGORIES:Media Education
ATTACH;FMTTYPE=image/png:https://uvjam.org/wp-content/uploads/2022/09/jam-film-club-cover-image-close-up-right.png
END:VEVENT
BEGIN:VEVENT
DTSTART;TZID=America/New_York:20230220T183000
DTEND;TZID=America/New_York:20230220T200000
DTSTAMP:20260422T120143
CREATED:20220909T200717Z
LAST-MODIFIED:20221216T151747Z
UID:10000341-1676917800-1676923200@uvjam.org
SUMMARY:JAM Scriptwriters' Group
DESCRIPTION:Gather bi-weekly with a dedicated group to meet talented local writers\, learn new script writing techniques\, and receive peer feedback on your work. \nMeetings are free of charge and not mandatory\, but we encourage consistent participation to get the most out of this group! \nFor more information and to register\, click HERE.
URL:https://uvjam.org/event/scriptwritersgroup/2023-02-20/
LOCATION:JAM – Junction Arts & Media\, 5 S Main St\, White River Junction\, VT\, 05001\, United States
CATEGORIES:Media Education
ATTACH;FMTTYPE=image/png:https://uvjam.org/wp-content/uploads/2022/09/scriptwriters-group-cover-image-2.png
END:VEVENT
BEGIN:VEVENT
DTSTART;TZID=America/New_York:20230208T153000
DTEND;TZID=America/New_York:20230208T173000
DTSTAMP:20260422T120143
CREATED:20221129T224433Z
LAST-MODIFIED:20221129T224433Z
UID:10000375-1675870200-1675877400@uvjam.org
SUMMARY:JAM Film Club
DESCRIPTION:It’s an after-school film club! Join us in the JAM space every Wednesday and connect with other young filmmakers. Learn what goes into making a movie\, then put it to use making your own. All equipment will be provided. \nFor more information and to register\, click HERE.
URL:https://uvjam.org/event/jam-film-club/2023-02-08/
LOCATION:JAM – Junction Arts & Media\, 5 S Main St\, White River Junction\, VT\, 05001\, United States
CATEGORIES:Media Education
ATTACH;FMTTYPE=image/png:https://uvjam.org/wp-content/uploads/2022/09/jam-film-club-cover-image-close-up-right.png
END:VEVENT
BEGIN:VEVENT
DTSTART;TZID=America/New_York:20230206T183000
DTEND;TZID=America/New_York:20230206T200000
DTSTAMP:20260422T120143
CREATED:20220909T200717Z
LAST-MODIFIED:20221216T151747Z
UID:10000340-1675708200-1675713600@uvjam.org
SUMMARY:JAM Scriptwriters' Group
DESCRIPTION:Gather bi-weekly with a dedicated group to meet talented local writers\, learn new script writing techniques\, and receive peer feedback on your work. \nMeetings are free of charge and not mandatory\, but we encourage consistent participation to get the most out of this group! \nFor more information and to register\, click HERE.
URL:https://uvjam.org/event/scriptwritersgroup/2023-02-06/
LOCATION:JAM – Junction Arts & Media\, 5 S Main St\, White River Junction\, VT\, 05001\, United States
CATEGORIES:Media Education
ATTACH;FMTTYPE=image/png:https://uvjam.org/wp-content/uploads/2022/09/scriptwriters-group-cover-image-2.png
END:VEVENT
BEGIN:VEVENT
DTSTART;TZID=America/New_York:20230201T153000
DTEND;TZID=America/New_York:20230201T173000
DTSTAMP:20260422T120143
CREATED:20221129T224433Z
LAST-MODIFIED:20221129T224433Z
UID:10000374-1675265400-1675272600@uvjam.org
SUMMARY:JAM Film Club
DESCRIPTION:It’s an after-school film club! Join us in the JAM space every Wednesday and connect with other young filmmakers. Learn what goes into making a movie\, then put it to use making your own. All equipment will be provided. \nFor more information and to register\, click HERE.
URL:https://uvjam.org/event/jam-film-club/2023-02-01/
LOCATION:JAM – Junction Arts & Media\, 5 S Main St\, White River Junction\, VT\, 05001\, United States
CATEGORIES:Media Education
ATTACH;FMTTYPE=image/png:https://uvjam.org/wp-content/uploads/2022/09/jam-film-club-cover-image-close-up-right.png
END:VEVENT
BEGIN:VEVENT
DTSTART;TZID=America/New_York:20230131T183000
DTEND;TZID=America/New_York:20230131T200000
DTSTAMP:20260422T120143
CREATED:20221207T010713Z
LAST-MODIFIED:20230105T171641Z
UID:10000386-1675189800-1675195200@uvjam.org
SUMMARY:January Media Lab: Editing
DESCRIPTION:A tour of editing software and techniques suited to all levels\, this hands-on workshop series focuses on editing fundamentals that are used in the creation of successful story-telling media. You are invited to bring your own media projects or a folder of practice media will be provided. Editing equipment and software is all available—or bring your own laptop! These resources may be utilized in our office between sessions for additional fun/experience. \nFor more info and to register click HERE
URL:https://uvjam.org/event/january-media-lab-editing/2023-01-31/
LOCATION:JAM – Junction Arts & Media\, 5 S Main St\, White River Junction\, VT\, 05001\, United States
CATEGORIES:Media Education
ATTACH;FMTTYPE=image/jpeg:https://uvjam.org/wp-content/uploads/2022/08/Liz-Kourbatski.jpg
END:VEVENT
BEGIN:VEVENT
DTSTART;TZID=America/New_York:20230125T153000
DTEND;TZID=America/New_York:20230125T173000
DTSTAMP:20260422T120143
CREATED:20221129T224433Z
LAST-MODIFIED:20221129T224433Z
UID:10000373-1674660600-1674667800@uvjam.org
SUMMARY:JAM Film Club
DESCRIPTION:It’s an after-school film club! Join us in the JAM space every Wednesday and connect with other young filmmakers. Learn what goes into making a movie\, then put it to use making your own. All equipment will be provided. \nFor more information and to register\, click HERE.
URL:https://uvjam.org/event/jam-film-club/2023-01-25/
LOCATION:JAM – Junction Arts & Media\, 5 S Main St\, White River Junction\, VT\, 05001\, United States
CATEGORIES:Media Education
ATTACH;FMTTYPE=image/png:https://uvjam.org/wp-content/uploads/2022/09/jam-film-club-cover-image-close-up-right.png
END:VEVENT
BEGIN:VEVENT
DTSTART;TZID=America/New_York:20230124T183000
DTEND;TZID=America/New_York:20230124T200000
DTSTAMP:20260422T120143
CREATED:20221207T010713Z
LAST-MODIFIED:20230105T171641Z
UID:10000385-1674585000-1674590400@uvjam.org
SUMMARY:January Media Lab: Editing
DESCRIPTION:A tour of editing software and techniques suited to all levels\, this hands-on workshop series focuses on editing fundamentals that are used in the creation of successful story-telling media. You are invited to bring your own media projects or a folder of practice media will be provided. Editing equipment and software is all available—or bring your own laptop! These resources may be utilized in our office between sessions for additional fun/experience. \nFor more info and to register click HERE
URL:https://uvjam.org/event/january-media-lab-editing/2023-01-24/
LOCATION:JAM – Junction Arts & Media\, 5 S Main St\, White River Junction\, VT\, 05001\, United States
CATEGORIES:Media Education
ATTACH;FMTTYPE=image/jpeg:https://uvjam.org/wp-content/uploads/2022/08/Liz-Kourbatski.jpg
END:VEVENT
BEGIN:VEVENT
DTSTART;TZID=America/New_York:20230123T183000
DTEND;TZID=America/New_York:20230123T200000
DTSTAMP:20260422T120143
CREATED:20220909T200717Z
LAST-MODIFIED:20221216T151747Z
UID:10000339-1674498600-1674504000@uvjam.org
SUMMARY:JAM Scriptwriters' Group
DESCRIPTION:Gather bi-weekly with a dedicated group to meet talented local writers\, learn new script writing techniques\, and receive peer feedback on your work. \nMeetings are free of charge and not mandatory\, but we encourage consistent participation to get the most out of this group! \nFor more information and to register\, click HERE.
URL:https://uvjam.org/event/scriptwritersgroup/2023-01-23/
LOCATION:JAM – Junction Arts & Media\, 5 S Main St\, White River Junction\, VT\, 05001\, United States
CATEGORIES:Media Education
ATTACH;FMTTYPE=image/png:https://uvjam.org/wp-content/uploads/2022/09/scriptwriters-group-cover-image-2.png
END:VEVENT
BEGIN:VEVENT
DTSTART;TZID=America/New_York:20230118T153000
DTEND;TZID=America/New_York:20230118T173000
DTSTAMP:20260422T120143
CREATED:20221129T224433Z
LAST-MODIFIED:20221129T224433Z
UID:10000372-1674055800-1674063000@uvjam.org
SUMMARY:JAM Film Club
DESCRIPTION:It’s an after-school film club! Join us in the JAM space every Wednesday and connect with other young filmmakers. Learn what goes into making a movie\, then put it to use making your own. All equipment will be provided. \nFor more information and to register\, click HERE.
URL:https://uvjam.org/event/jam-film-club/2023-01-18/
LOCATION:JAM – Junction Arts & Media\, 5 S Main St\, White River Junction\, VT\, 05001\, United States
CATEGORIES:Media Education
ATTACH;FMTTYPE=image/png:https://uvjam.org/wp-content/uploads/2022/09/jam-film-club-cover-image-close-up-right.png
END:VEVENT
BEGIN:VEVENT
DTSTART;TZID=America/New_York:20230117T183000
DTEND;TZID=America/New_York:20230117T200000
DTSTAMP:20260422T120143
CREATED:20221207T010713Z
LAST-MODIFIED:20230105T171641Z
UID:10000384-1673980200-1673985600@uvjam.org
SUMMARY:January Media Lab: Editing
DESCRIPTION:A tour of editing software and techniques suited to all levels\, this hands-on workshop series focuses on editing fundamentals that are used in the creation of successful story-telling media. You are invited to bring your own media projects or a folder of practice media will be provided. Editing equipment and software is all available—or bring your own laptop! These resources may be utilized in our office between sessions for additional fun/experience. \nFor more info and to register click HERE
URL:https://uvjam.org/event/january-media-lab-editing/2023-01-17/
LOCATION:JAM – Junction Arts & Media\, 5 S Main St\, White River Junction\, VT\, 05001\, United States
CATEGORIES:Media Education
ATTACH;FMTTYPE=image/jpeg:https://uvjam.org/wp-content/uploads/2022/08/Liz-Kourbatski.jpg
END:VEVENT
BEGIN:VEVENT
DTSTART;TZID=America/New_York:20230110T183000
DTEND;TZID=America/New_York:20230110T200000
DTSTAMP:20260422T120143
CREATED:20221207T010713Z
LAST-MODIFIED:20230105T171641Z
UID:10000383-1673375400-1673380800@uvjam.org
SUMMARY:January Media Lab: Editing
DESCRIPTION:A tour of editing software and techniques suited to all levels\, this hands-on workshop series focuses on editing fundamentals that are used in the creation of successful story-telling media. You are invited to bring your own media projects or a folder of practice media will be provided. Editing equipment and software is all available—or bring your own laptop! These resources may be utilized in our office between sessions for additional fun/experience. \nFor more info and to register click HERE
URL:https://uvjam.org/event/january-media-lab-editing/2023-01-10/
LOCATION:JAM – Junction Arts & Media\, 5 S Main St\, White River Junction\, VT\, 05001\, United States
CATEGORIES:Media Education
ATTACH;FMTTYPE=image/jpeg:https://uvjam.org/wp-content/uploads/2022/08/Liz-Kourbatski.jpg
END:VEVENT
BEGIN:VEVENT
DTSTART;TZID=America/New_York:20230109T183000
DTEND;TZID=America/New_York:20230109T200000
DTSTAMP:20260422T120143
CREATED:20220909T200717Z
LAST-MODIFIED:20221216T151747Z
UID:10000338-1673289000-1673294400@uvjam.org
SUMMARY:JAM Scriptwriters' Group
DESCRIPTION:Gather bi-weekly with a dedicated group to meet talented local writers\, learn new script writing techniques\, and receive peer feedback on your work. \nMeetings are free of charge and not mandatory\, but we encourage consistent participation to get the most out of this group! \nFor more information and to register\, click HERE.
URL:https://uvjam.org/event/scriptwritersgroup/2023-01-09/
LOCATION:JAM – Junction Arts & Media\, 5 S Main St\, White River Junction\, VT\, 05001\, United States
CATEGORIES:Media Education
ATTACH;FMTTYPE=image/png:https://uvjam.org/wp-content/uploads/2022/09/scriptwriters-group-cover-image-2.png
END:VEVENT
BEGIN:VEVENT
DTSTART;TZID=America/New_York:20221212T183000
DTEND;TZID=America/New_York:20221212T200000
DTSTAMP:20260422T120143
CREATED:20220909T200717Z
LAST-MODIFIED:20221216T151747Z
UID:10000336-1670869800-1670875200@uvjam.org
SUMMARY:JAM Scriptwriters' Group
DESCRIPTION:Gather bi-weekly with a dedicated group to meet talented local writers\, learn new script writing techniques\, and receive peer feedback on your work. \nMeetings are free of charge and not mandatory\, but we encourage consistent participation to get the most out of this group! \nFor more information and to register\, click HERE.
URL:https://uvjam.org/event/scriptwritersgroup/2022-12-12/
LOCATION:JAM – Junction Arts & Media\, 5 S Main St\, White River Junction\, VT\, 05001\, United States
CATEGORIES:Media Education
ATTACH;FMTTYPE=image/png:https://uvjam.org/wp-content/uploads/2022/09/scriptwriters-group-cover-image-2.png
END:VEVENT
BEGIN:VEVENT
DTSTART;TZID=America/New_York:20221203T100000
DTEND;TZID=America/New_York:20221203T140000
DTSTAMP:20260422T120143
CREATED:20220909T193048Z
LAST-MODIFIED:20220909T215753Z
UID:10000313-1670061600-1670076000@uvjam.org
SUMMARY:December jamLAB Weekend Intensive: Painting with Light
DESCRIPTION:This one-day hands-on workshop illuminating the power of light to create compelling motion picture images is suited to all levels. The morning session will focus on creating Video Art for projection at Light River Junction.  After lunch\, the focus will shift to cinematic lighting.  Activities will include both studio and location lighting exercises to discover tools and techniques\, whether sculpting light or working with what nature gives you\, to create intentional moving images. \nFor more information and to register\, click HERE.
URL:https://uvjam.org/event/december-jamlab-weekend-intensive-painting-with-light/
LOCATION:JAM – Junction Arts & Media\, 5 S Main St\, White River Junction\, VT\, 05001\, United States
CATEGORIES:Media Education
ATTACH;FMTTYPE=image/jpeg:https://uvjam.org/wp-content/uploads/2022/09/Light-River-Junction_Dec-2020-scaled.jpeg
END:VEVENT
BEGIN:VEVENT
DTSTART;TZID=America/New_York:20221130T153000
DTEND;TZID=America/New_York:20221130T173000
DTSTAMP:20260422T120143
CREATED:20220909T193654Z
LAST-MODIFIED:20220913T200443Z
UID:10000330-1669822200-1669829400@uvjam.org
SUMMARY:JAM Film Club
DESCRIPTION:It’s an after-school film club! Join us in the JAM space every Wednesday and connect with other young filmmakers. Learn what goes into making a movie\, then put it to use making your own. All equipment will be provided. \nFor more information and to register\, click HERE.
URL:https://uvjam.org/event/jam-film-club-2022-11-30/
LOCATION:JAM – Junction Arts & Media\, 5 S Main St\, White River Junction\, VT\, 05001\, United States
CATEGORIES:Media Education
ATTACH;FMTTYPE=image/png:https://uvjam.org/wp-content/uploads/2022/09/jam-film-club-cover-image-close-up-right.png
END:VEVENT
BEGIN:VEVENT
DTSTART;TZID=America/New_York:20221129T183000
DTEND;TZID=America/New_York:20221129T200000
DTSTAMP:20260422T120143
CREATED:20220909T192224Z
LAST-MODIFIED:20220915T173934Z
UID:10000312-1669746600-1669752000@uvjam.org
SUMMARY:jamLAB: Sound
DESCRIPTION:This hands-on workshop series focusing on Sound fundamentals for recording and creating compelling soundscapes is suited to all levels. You are invited to bring media projects-in-progress or ideas you’re incubating. Equipment will be provided (or bring your own) and can be borrowed between sessions for optional “homework” activities. \nFor more information and to register\, click HERE.
URL:https://uvjam.org/event/jamlab-sound/2022-11-29/
LOCATION:JAM – Junction Arts & Media\, 5 S Main St\, White River Junction\, VT\, 05001\, United States
CATEGORIES:Media Education
ATTACH;FMTTYPE=image/jpeg:https://uvjam.org/wp-content/uploads/2022/09/HiTV-control-booth-Allison-Brown-2022-scaled.jpeg
END:VEVENT
BEGIN:VEVENT
DTSTART;TZID=America/New_York:20221128T183000
DTEND;TZID=America/New_York:20221128T200000
DTSTAMP:20260422T120143
CREATED:20220909T200717Z
LAST-MODIFIED:20221216T151747Z
UID:10000335-1669660200-1669665600@uvjam.org
SUMMARY:JAM Scriptwriters' Group
DESCRIPTION:Gather bi-weekly with a dedicated group to meet talented local writers\, learn new script writing techniques\, and receive peer feedback on your work. \nMeetings are free of charge and not mandatory\, but we encourage consistent participation to get the most out of this group! \nFor more information and to register\, click HERE.
URL:https://uvjam.org/event/scriptwritersgroup/2022-11-28/
LOCATION:JAM – Junction Arts & Media\, 5 S Main St\, White River Junction\, VT\, 05001\, United States
CATEGORIES:Media Education
ATTACH;FMTTYPE=image/png:https://uvjam.org/wp-content/uploads/2022/09/scriptwriters-group-cover-image-2.png
END:VEVENT
BEGIN:VEVENT
DTSTART;TZID=America/New_York:20221122T183000
DTEND;TZID=America/New_York:20221122T200000
DTSTAMP:20260422T120143
CREATED:20220909T192224Z
LAST-MODIFIED:20220915T173934Z
UID:10000311-1669141800-1669147200@uvjam.org
SUMMARY:jamLAB: Sound
DESCRIPTION:This hands-on workshop series focusing on Sound fundamentals for recording and creating compelling soundscapes is suited to all levels. You are invited to bring media projects-in-progress or ideas you’re incubating. Equipment will be provided (or bring your own) and can be borrowed between sessions for optional “homework” activities. \nFor more information and to register\, click HERE.
URL:https://uvjam.org/event/jamlab-sound/2022-11-22/
LOCATION:JAM – Junction Arts & Media\, 5 S Main St\, White River Junction\, VT\, 05001\, United States
CATEGORIES:Media Education
ATTACH;FMTTYPE=image/jpeg:https://uvjam.org/wp-content/uploads/2022/09/HiTV-control-booth-Allison-Brown-2022-scaled.jpeg
END:VEVENT
BEGIN:VEVENT
DTSTART;TZID=America/New_York:20221115T183000
DTEND;TZID=America/New_York:20221115T200000
DTSTAMP:20260422T120143
CREATED:20220909T192224Z
LAST-MODIFIED:20220915T173934Z
UID:10000310-1668537000-1668542400@uvjam.org
SUMMARY:jamLAB: Sound
DESCRIPTION:This hands-on workshop series focusing on Sound fundamentals for recording and creating compelling soundscapes is suited to all levels. You are invited to bring media projects-in-progress or ideas you’re incubating. Equipment will be provided (or bring your own) and can be borrowed between sessions for optional “homework” activities. \nFor more information and to register\, click HERE.
URL:https://uvjam.org/event/jamlab-sound/2022-11-15/
LOCATION:JAM – Junction Arts & Media\, 5 S Main St\, White River Junction\, VT\, 05001\, United States
CATEGORIES:Media Education
ATTACH;FMTTYPE=image/jpeg:https://uvjam.org/wp-content/uploads/2022/09/HiTV-control-booth-Allison-Brown-2022-scaled.jpeg
END:VEVENT
BEGIN:VEVENT
DTSTART;TZID=America/New_York:20221114T183000
DTEND;TZID=America/New_York:20221114T200000
DTSTAMP:20260422T120143
CREATED:20220909T200717Z
LAST-MODIFIED:20221216T151747Z
UID:10000334-1668450600-1668456000@uvjam.org
SUMMARY:JAM Scriptwriters' Group
DESCRIPTION:Gather bi-weekly with a dedicated group to meet talented local writers\, learn new script writing techniques\, and receive peer feedback on your work. \nMeetings are free of charge and not mandatory\, but we encourage consistent participation to get the most out of this group! \nFor more information and to register\, click HERE.
URL:https://uvjam.org/event/scriptwritersgroup/2022-11-14/
LOCATION:JAM – Junction Arts & Media\, 5 S Main St\, White River Junction\, VT\, 05001\, United States
CATEGORIES:Media Education
ATTACH;FMTTYPE=image/png:https://uvjam.org/wp-content/uploads/2022/09/scriptwriters-group-cover-image-2.png
END:VEVENT
BEGIN:VEVENT
DTSTART;TZID=America/New_York:20221112T100000
DTEND;TZID=America/New_York:20221112T140000
DTSTAMP:20260422T120143
CREATED:20220909T203556Z
LAST-MODIFIED:20221007T160623Z
UID:10000353-1668247200-1668261600@uvjam.org
SUMMARY:Animation Pop-Up
DESCRIPTION:Kids’ (and families!) in elementary and middle school can get an introduction to basic stop motion animation on our iPads\, then let their creativity run wild. We will animate with legos\, construction paper\, toys\, and more! 
URL:https://uvjam.org/event/animation-pop-up/
LOCATION:JAM – Junction Arts & Media\, 5 S Main St\, White River Junction\, VT\, 05001\, United States
CATEGORIES:Community Events,Media Education
ATTACH;FMTTYPE=image/png:https://uvjam.org/wp-content/uploads/2022/09/Untitled-design-1.png
END:VEVENT
END:VCALENDAR