BEGIN:VCALENDAR
VERSION:2.0
PRODID:-//Junction Arts &amp; Media - ECPv6.15.14//NONSGML v1.0//EN
CALSCALE:GREGORIAN
METHOD:PUBLISH
X-WR-CALNAME:Junction Arts &amp; Media
X-ORIGINAL-URL:https://uvjam.org
X-WR-CALDESC:Events for Junction Arts &amp; Media
REFRESH-INTERVAL;VALUE=DURATION:PT1H
X-Robots-Tag:noindex
X-PUBLISHED-TTL:PT1H
BEGIN:VTIMEZONE
TZID:America/New_York
BEGIN:DAYLIGHT
TZOFFSETFROM:-0500
TZOFFSETTO:-0400
TZNAME:EDT
DTSTART:20220313T070000
END:DAYLIGHT
BEGIN:STANDARD
TZOFFSETFROM:-0400
TZOFFSETTO:-0500
TZNAME:EST
DTSTART:20221106T060000
END:STANDARD
BEGIN:DAYLIGHT
TZOFFSETFROM:-0500
TZOFFSETTO:-0400
TZNAME:EDT
DTSTART:20230312T070000
END:DAYLIGHT
BEGIN:STANDARD
TZOFFSETFROM:-0400
TZOFFSETTO:-0500
TZNAME:EST
DTSTART:20231105T060000
END:STANDARD
BEGIN:DAYLIGHT
TZOFFSETFROM:-0500
TZOFFSETTO:-0400
TZNAME:EDT
DTSTART:20240310T070000
END:DAYLIGHT
BEGIN:STANDARD
TZOFFSETFROM:-0400
TZOFFSETTO:-0500
TZNAME:EST
DTSTART:20241103T060000
END:STANDARD
END:VTIMEZONE
BEGIN:VEVENT
DTSTART;TZID=America/New_York:20231103T160000
DTEND;TZID=America/New_York:20231103T200000
DTSTAMP:20260424T204243
CREATED:20230830T184921Z
LAST-MODIFIED:20240513T110221Z
UID:10000749-1699027200-1699041600@uvjam.org
SUMMARY:TWIST 2.0 Comics & Zine Fair
DESCRIPTION:TWIST is back\, baby! Come browse comics\, zines\, poetry chapbooks\, and other self-published work by talented local artists and Center for Cartoon Studies students alike on First Friday of November at JAM.  Find the perfect holiday gifts for the weirdos you love! \nInterested in tabling? Apply HERE September 1 – October 1.
URL:https://uvjam.org/event/twist-2-0/
LOCATION:JAM – Junction Arts & Media\, 5 S Main St\, White River Junction\, VT\, 05001\, United States
CATEGORIES:Past Events
ATTACH;FMTTYPE=image/jpeg:https://uvjam.org/wp-content/uploads/2023/08/twist-2-flyer-final-scaled.jpg
END:VEVENT
BEGIN:VEVENT
DTSTART;TZID=America/New_York:20231109T190000
DTEND;TZID=America/New_York:20231109T203000
DTSTAMP:20260424T204243
CREATED:20230817T170533Z
LAST-MODIFIED:20240513T110221Z
UID:10000488-1699556400-1699561800@uvjam.org
SUMMARY:Lampshade Poets
DESCRIPTION:In 2012 David Celone couldn’t find a poetry reading group in the Upper Valley area\, so he started his own\, offering readings both at his then Long River Studios Gallery in Lyme\, NH\, and WRJ\, where Lampscapes owner Ken Blaisdell opened his store to the event. The poets eventually named themselves the Lampshade Poets. As Lampscapes filled with furniture and artwork\, the readings moved to the Coolidge Hotel and Janni Moselsky-Hansen’s Café Renée until Covid closure. Two of the original poets\, Janet Watton and Pam Ahlen\, will resume the readings on November 9th at 7 P.M.\, open to all Lampshaders as well as any poet who is interested in reading an original piece or two and willing to be videoed for JAM’s community access
URL:https://uvjam.org/event/lampshade-poets/
LOCATION:JAM – Junction Arts & Media\, 5 S Main St\, White River Junction\, VT\, 05001\, United States
CATEGORIES:Past Events
ATTACH;FMTTYPE=image/jpeg:https://uvjam.org/wp-content/uploads/2023/08/image.jpg
END:VEVENT
BEGIN:VEVENT
DTSTART;TZID=America/New_York:20231111T110000
DTEND;TZID=America/New_York:20231111T130000
DTSTAMP:20260424T204243
CREATED:20231003T182917Z
LAST-MODIFIED:20240513T110220Z
UID:10000762-1699700400-1699707600@uvjam.org
SUMMARY:Zine Workshop With Center for Cartoon Studies Fellow\, S. Mirk
DESCRIPTION:A zine can be any multi-page booklet made for passion\, not profit. Learn how to make your zine with Center for Cartoon Studies Fellow S. Mirk. ALL AGES + FREE! Please RSVP below so we can be prepared with supplies.\n\nMore about S. Mirk: Mirkwork.com
URL:https://uvjam.org/event/zine-workshop-11-11/
LOCATION:JAM – Junction Arts & Media\, 5 S Main St\, White River Junction\, VT\, 05001\, United States
CATEGORIES:Past Events
ATTACH;FMTTYPE=image/jpeg:https://uvjam.org/wp-content/uploads/2023/10/zine-workshop-flyer-JAM.jpg
END:VEVENT
BEGIN:VEVENT
DTSTART;TZID=America/New_York:20231111T130000
DTEND;TZID=America/New_York:20231111T160000
DTSTAMP:20260424T204243
CREATED:20231027T172308Z
LAST-MODIFIED:20240513T110220Z
UID:10000771-1699707600-1699718400@uvjam.org
SUMMARY:Fulla Flava Jamaican Jerk Lunch Pop Up
DESCRIPTION:Fulla Flava Jamaican Jerk food for purchase(as tasted at Farm to Film Festival and the Revolution Block Party) plus good music\, good people\, and good vibes! \nhttps://www.instagram.com/fullaflavajamaicanjerk/
URL:https://uvjam.org/event/fulla-flava-jamaican-jerk-lunch/
LOCATION:JAM – Junction Arts & Media\, 5 S Main St\, White River Junction\, VT\, 05001\, United States
CATEGORIES:Past Events
ATTACH;FMTTYPE=image/jpeg:https://uvjam.org/wp-content/uploads/2023/10/unnamed.jpg
END:VEVENT
BEGIN:VEVENT
DTSTART;TZID=America/New_York:20231113T173000
DTEND;TZID=America/New_York:20231113T190000
DTSTAMP:20260424T204243
CREATED:20230830T202829Z
LAST-MODIFIED:20240513T110222Z
UID:10000772-1699896600-1699902000@uvjam.org
SUMMARY:JAM Script Writers' Group
DESCRIPTION:Gather bi-weekly with a dedicated group to meet talented local writers\, learn new script writing techniques\, and receive peer feedback on your work. We workshop stage plays\, screenplays\, radio/podcast scripts\, and any story that’s meant to be performed! \nREGISTER HERE \n 
URL:https://uvjam.org/event/jam-script-writers-group/2023-11-13/
LOCATION:JAM – Junction Arts & Media\, 5 S Main St\, White River Junction\, VT\, 05001\, United States
CATEGORIES:Past Events
ATTACH;FMTTYPE=image/jpeg:https://uvjam.org/wp-content/uploads/2023/08/Scriptwriters.jpg
END:VEVENT
BEGIN:VEVENT
DTSTART;TZID=America/New_York:20231116T190000
DTEND;TZID=America/New_York:20231116T210000
DTSTAMP:20260424T204243
CREATED:20230913T145302Z
LAST-MODIFIED:20240513T110220Z
UID:10000759-1700161200-1700168400@uvjam.org
SUMMARY:Sundog Poetry AMP Night
DESCRIPTION:Sundog Poetry presents AMP NIGHT – a periodic event series that explores the interplay of art\, music and poetry. At this special Fall AMP Night in the Upper Valley we welcome former Vermont Poet Laureate Sydney Lea with special guests Djeli\, Nana¡\, Diana Whitney\, Barbara Murphy\, and Jolivette ‘the poet warrior’. \n 
URL:https://uvjam.org/event/sundog/
LOCATION:JAM – Junction Arts & Media\, 5 S Main St\, White River Junction\, VT\, 05001\, United States
CATEGORIES:Live Music,Live Performance,Past Events
ATTACH;FMTTYPE=image/jpeg:https://uvjam.org/wp-content/uploads/2023/09/AmpNight-promo.jpg
END:VEVENT
BEGIN:VEVENT
DTSTART;TZID=America/New_York:20231127T183000
DTEND;TZID=America/New_York:20231127T200000
DTSTAMP:20260424T204243
CREATED:20230830T202829Z
LAST-MODIFIED:20240513T110222Z
UID:10000767-1701109800-1701115200@uvjam.org
SUMMARY:JAM Script Writers' Group
DESCRIPTION:Gather bi-weekly with a dedicated group to meet talented local writers\, learn new script writing techniques\, and receive peer feedback on your work. We workshop stage plays\, screenplays\, radio/podcast scripts\, and any story that’s meant to be performed! \nREGISTER HERE \n 
URL:https://uvjam.org/event/jam-script-writers-group/2023-11-27/
LOCATION:JAM – Junction Arts & Media\, 5 S Main St\, White River Junction\, VT\, 05001\, United States
CATEGORIES:Past Events
ATTACH;FMTTYPE=image/jpeg:https://uvjam.org/wp-content/uploads/2023/08/Scriptwriters.jpg
END:VEVENT
END:VCALENDAR