BEGIN:VCALENDAR
VERSION:2.0
PRODID:-//Junction Arts &amp; Media - ECPv6.15.14//NONSGML v1.0//EN
CALSCALE:GREGORIAN
METHOD:PUBLISH
X-WR-CALNAME:Junction Arts &amp; Media
X-ORIGINAL-URL:https://uvjam.org
X-WR-CALDESC:Events for Junction Arts &amp; Media
REFRESH-INTERVAL;VALUE=DURATION:PT1H
X-Robots-Tag:noindex
X-PUBLISHED-TTL:PT1H
BEGIN:VTIMEZONE
TZID:America/New_York
BEGIN:DAYLIGHT
TZOFFSETFROM:-0500
TZOFFSETTO:-0400
TZNAME:EDT
DTSTART:20220313T070000
END:DAYLIGHT
BEGIN:STANDARD
TZOFFSETFROM:-0400
TZOFFSETTO:-0500
TZNAME:EST
DTSTART:20221106T060000
END:STANDARD
BEGIN:DAYLIGHT
TZOFFSETFROM:-0500
TZOFFSETTO:-0400
TZNAME:EDT
DTSTART:20230312T070000
END:DAYLIGHT
BEGIN:STANDARD
TZOFFSETFROM:-0400
TZOFFSETTO:-0500
TZNAME:EST
DTSTART:20231105T060000
END:STANDARD
BEGIN:DAYLIGHT
TZOFFSETFROM:-0500
TZOFFSETTO:-0400
TZNAME:EDT
DTSTART:20240310T070000
END:DAYLIGHT
BEGIN:STANDARD
TZOFFSETFROM:-0400
TZOFFSETTO:-0500
TZNAME:EST
DTSTART:20241103T060000
END:STANDARD
END:VTIMEZONE
BEGIN:VEVENT
DTSTART;TZID=America/New_York:20231009T090000
DTEND;TZID=America/New_York:20231024T170000
DTSTAMP:20260425T133346
CREATED:20230802T155110Z
LAST-MODIFIED:20240513T110222Z
UID:10000482-1696842000-1698166800@uvjam.org
SUMMARY:Climate Farmer Stories Exhibit at JAM
DESCRIPTION:For the month of October JAM will display “Climate Farmer Stories\,” a new multimedia exhibit that shares the stories and portraits of 13 Upper Valley farmers who are using agricultural methods that mitigate and adapt to climate change and help build a food supply that can withstand the impact of climate disruption.  The exhibit is one part of Vital Communities’ Climate Farmer Stories project\, a three-year effort to increase farmer income while changing the perception about farming and climate change. Funded by the US Department of Agriculture\, the project brings together Upper Valley farmers\, artists\, and nonprofit staff to change the story of farming and climate change\, while increasing the marketing skills and resources for participating farmers. “Addressing climate change through food requires us to get back to the roots of farming\,” said Nancy LaRowe\, Vital Communities’ Director of Food & Farm and Economy. “Climate farmers can help mitigate climate change by returning to farming practices that strive to support natural systems\, as opposed to scaling up with more ‘efficient’ technologies that are denigrating natural ecosystems. This is the hopeful story that needs to be shared as we see and experience the impacts of the climate crisis. People can choose how to spend their food dollars\, and buying local food from climate conscious farmers is an investment in community resilience and climate action.” 
URL:https://uvjam.org/event/climate-farmer-stories-exhibit-at-jam/
LOCATION:JAM – Junction Arts & Media\, 5 S Main St\, White River Junction\, VT\, 05001\, United States
CATEGORIES:Community Events,Media Arts Installation,Past Events
ATTACH;FMTTYPE=image/png:https://uvjam.org/wp-content/uploads/2023/08/climate-farmer-stamp-small-1.png
END:VEVENT
BEGIN:VEVENT
DTSTART;TZID=America/New_York:20231025T080000
DTEND;TZID=America/New_York:20231025T090000
DTSTAMP:20260425T133346
CREATED:20230914T155515Z
LAST-MODIFIED:20240513T110221Z
UID:10000760-1698220800-1698224400@uvjam.org
SUMMARY:AmeUp Coffee & Creative Networking: Creative Lives with Maureen Burford
DESCRIPTION:Join Creative Lives Director Maureen Burford to explore the practical function of the chakra system as a means to actualize potential and support children on their path. \nA Framework for Wise Education® is an innovative methodology that addresses pressing concerns for parents\, teachers\, and children. It is based on Ellen Tadd’s observations about the human energy (chakra) system and its fundamental role in human development. Her Framework distills these findings into practical tools that help a child’s chakra system function well. This\, in turn\, supports all aspects of healthy child development. \nDrink coffee\, join in the discussion\, and meet fellow creatives. \nPresented in partnership with AmeUP\, a creative network founded by Elizabeth Wilcox and Marion Abrams in the belief that there is a place where business\, creativity\, and community overlap. ​If you are an entrepreneurial creative or a creative entrepreneur looking to meet and connect with peers for inspiration and professional camaraderie\, join our meet-ups and subscribe to our updates.
URL:https://uvjam.org/event/ameup-coffee-creative-networking-creative-lives-with-maureen-burford/
LOCATION:JAM – Junction Arts & Media\, 5 S Main St\, White River Junction\, VT\, 05001\, United States
CATEGORIES:Past Events
ATTACH;FMTTYPE=image/jpeg:https://uvjam.org/wp-content/uploads/2023/09/Maureen-Headshot-2023-1.jpg
END:VEVENT
BEGIN:VEVENT
DTSTART;TZID=America/New_York:20231026T173000
DTEND;TZID=America/New_York:20231026T183000
DTSTAMP:20260425T133346
CREATED:20231004T171118Z
LAST-MODIFIED:20240513T110221Z
UID:10000763-1698341400-1698345000@uvjam.org
SUMMARY:Tenant and Fair Housing Know-Your-Rights Workshop
DESCRIPTION:Join us for an introduction to the fundamentals of tenant rights & responsibilities\, as well as fair housing protections. Presented by CVOEO’s Housing Advocacy team in collaboration with The Upper Valley Tenants Union and JAM\, this workshop is designed for tenants. We will briefly cover the housing landscape in Vermont\, basic tenant skills\, landlord obligations\, who is protected under state and federal Fair Housing Law\, what housing discrimination can look and sound like\, and what we can do to prevent housing discrimination. Our workshop will focus on introducing relevant information and tools participants can put directly into practice. We encourage participants to bring questions to the workshop for discussion. \nThis workshop is an introduction to these topics; for a deeper dive on tenants’ rights and responsibilities as well as finding housing and financially preparing to rent\, CVOEO offers free live and self-paced online workshops: https://www.cvoeo.org/learn/renters-workshops. The Fair Housing Project also offers more expansive workshops on Fair Housing upon request. \nFor more information about your fair housing and tenant rights and responsibilities\, visit www.cvoeo.org/fhp and www.cvoeo.org/vermonttenants. \nThis workshop will be recorded by JAM to broadcast and share with the greater community. \nRSVP REQUIRED
URL:https://uvjam.org/event/tenant-and-fair-housing-know-your-rights-workshop-2/
LOCATION:JAM – Junction Arts & Media\, 5 S Main St\, White River Junction\, VT\, 05001\, United States
CATEGORIES:Past Events
ATTACH;FMTTYPE=image/jpeg:https://uvjam.org/wp-content/uploads/2023/10/Tenant-Workshop-Flyer-1.jpg
END:VEVENT
BEGIN:VEVENT
DTSTART;TZID=America/New_York:20231028T170000
DTEND;TZID=America/New_York:20231028T190000
DTSTAMP:20260425T133346
CREATED:20230901T153927Z
LAST-MODIFIED:20240513T110221Z
UID:10000758-1698512400-1698519600@uvjam.org
SUMMARY:HALLOWEEN-O-THON 2023: Screening and Awards
DESCRIPTION:
URL:https://uvjam.org/event/halloween-o-thon-2023-screening-and-awards/
LOCATION:JAM – Junction Arts & Media\, 5 S Main St\, White River Junction\, VT\, 05001\, United States
CATEGORIES:Film Competitions,Film Screenings,Past Events
ATTACH;FMTTYPE=image/png:https://uvjam.org/wp-content/uploads/2023/09/HOT-2023-Poster-Final-2.png
END:VEVENT
END:VCALENDAR