BEGIN:VCALENDAR
VERSION:2.0
PRODID:-//Junction Arts &amp; Media - ECPv6.15.14//NONSGML v1.0//EN
CALSCALE:GREGORIAN
METHOD:PUBLISH
X-ORIGINAL-URL:https://uvjam.org
X-WR-CALDESC:Events for Junction Arts &amp; Media
REFRESH-INTERVAL;VALUE=DURATION:PT1H
X-Robots-Tag:noindex
X-PUBLISHED-TTL:PT1H
BEGIN:VTIMEZONE
TZID:America/New_York
BEGIN:DAYLIGHT
TZOFFSETFROM:-0500
TZOFFSETTO:-0400
TZNAME:EDT
DTSTART:20230312T070000
END:DAYLIGHT
BEGIN:STANDARD
TZOFFSETFROM:-0400
TZOFFSETTO:-0500
TZNAME:EST
DTSTART:20231105T060000
END:STANDARD
BEGIN:DAYLIGHT
TZOFFSETFROM:-0500
TZOFFSETTO:-0400
TZNAME:EDT
DTSTART:20240310T070000
END:DAYLIGHT
BEGIN:STANDARD
TZOFFSETFROM:-0400
TZOFFSETTO:-0500
TZNAME:EST
DTSTART:20241103T060000
END:STANDARD
BEGIN:DAYLIGHT
TZOFFSETFROM:-0500
TZOFFSETTO:-0400
TZNAME:EDT
DTSTART:20250309T070000
END:DAYLIGHT
BEGIN:STANDARD
TZOFFSETFROM:-0400
TZOFFSETTO:-0500
TZNAME:EST
DTSTART:20251102T060000
END:STANDARD
END:VTIMEZONE
BEGIN:VEVENT
DTSTART;VALUE=DATE:20240412
DTEND;VALUE=DATE:20240608
DTSTAMP:20260420T023756
CREATED:20240319T205230Z
LAST-MODIFIED:20240513T110211Z
UID:10000972-1712880000-1717804799@uvjam.org
SUMMARY:In Security // In Community
DESCRIPTION:A multimedia installation exploring our relationship to home and the evolution of housing\, deconstructing that relationship\, and envisioning a new one. \nA reception with the artists and other local housing advocates and organizations will be held on First Friday\, May 3rd. \nAbout the Artists\nCorrine Yonce is an artist\, fair & affordable housing advocate\, and documentarian.  She combines visual art with ethnographic media\, including audio interviews\, household objects\, and photographs\, to explore how our individual ideas of home situates into our shared sense of community. For more about Corrine and her work\, visit https://www.cmyonce.com/ \n \nJordyn Fitch is a filmmaker\, media educator\, community organizer\, and shenanigans instigator from South Florida. They are the Production Manager at Junction Arts & Media. They live in Lebanon\, NH with their lovely wife and slightly wilting plants. Jordyn has a website that is not nearly as nice as Corrines’. You can check it out at your own risk\, HERE. \n \nMaeve Littau graduated from Dartmouth College where she majored in Government\, with a focus on political violence. She is interested in community organizing and public policy\, as well as filmmaking and editing. \n \nMade possible in part by funding from
URL:https://uvjam.org/event/in-security-in-community/
LOCATION:JAM – Junction Arts & Media\, 5 S Main St\, White River Junction\, VT\, 05001\, United States
CATEGORIES:Past Events
ATTACH;FMTTYPE=image/png:https://uvjam.org/wp-content/uploads/2024/03/Security-2-e1712325605742.png
END:VEVENT
BEGIN:VEVENT
DTSTART;TZID=America/New_York:20240422T173000
DTEND;TZID=America/New_York:20240422T190000
DTSTAMP:20260420T023756
CREATED:20240105T182030Z
LAST-MODIFIED:20240513T111141Z
UID:10000812-1713807000-1713812400@uvjam.org
SUMMARY:JAM Scriptwriters' Group
DESCRIPTION:Gather bi-weekly with a dedicated group to meet talented local writers\, learn new script writing techniques\, and receive peer feedback on your work. \nMeetings are free of charge and not mandatory\, but we encourage consistent participation to get the most out of this group! \nFor more information and to register\, click HERE.
URL:https://uvjam.org/event/scriptwritersgroup-2/2024-04-22/
LOCATION:JAM – Junction Arts & Media\, 5 S Main St\, White River Junction\, VT\, 05001\, United States
CATEGORIES:Media Education
ATTACH;FMTTYPE=image/jpeg:https://uvjam.org/wp-content/uploads/2023/08/Scriptwriters.jpg
END:VEVENT
BEGIN:VEVENT
DTSTART;TZID=America/New_York:20240426T180000
DTEND;TZID=America/New_York:20240426T190000
DTSTAMP:20260420T023756
CREATED:20240409T163908Z
LAST-MODIFIED:20240513T110210Z
UID:10000987-1714154400-1714158000@uvjam.org
SUMMARY:Beltane Open Mic
DESCRIPTION:Beltane is the Gaelic May Day festival midway between the spring equinox and the summer solstice\, marking the beginning of summer. Come share and enjoy poetry\, music\, and art to celebrate welcoming in warm weather and new life. Performances will be recorded by JAM to be played on our cable station and YouTube channel. Sign up below to share something! \n\nMade possible in part by funding from
URL:https://uvjam.org/event/beltane-open-mic/
LOCATION:JAM – Junction Arts & Media\, 5 S Main St\, White River Junction\, VT\, 05001\, United States
CATEGORIES:Past Events
ATTACH;FMTTYPE=image/png:https://uvjam.org/wp-content/uploads/2024/04/Beltane.png
END:VEVENT
END:VCALENDAR