BEGIN:VCALENDAR
VERSION:2.0
PRODID:-//Junction Arts &amp; Media - ECPv6.15.14//NONSGML v1.0//EN
CALSCALE:GREGORIAN
METHOD:PUBLISH
X-WR-CALNAME:Junction Arts &amp; Media
X-ORIGINAL-URL:https://uvjam.org
X-WR-CALDESC:Events for Junction Arts &amp; Media
REFRESH-INTERVAL;VALUE=DURATION:PT1H
X-Robots-Tag:noindex
X-PUBLISHED-TTL:PT1H
BEGIN:VTIMEZONE
TZID:America/New_York
BEGIN:DAYLIGHT
TZOFFSETFROM:-0500
TZOFFSETTO:-0400
TZNAME:EDT
DTSTART:20230312T070000
END:DAYLIGHT
BEGIN:STANDARD
TZOFFSETFROM:-0400
TZOFFSETTO:-0500
TZNAME:EST
DTSTART:20231105T060000
END:STANDARD
BEGIN:DAYLIGHT
TZOFFSETFROM:-0500
TZOFFSETTO:-0400
TZNAME:EDT
DTSTART:20240310T070000
END:DAYLIGHT
BEGIN:STANDARD
TZOFFSETFROM:-0400
TZOFFSETTO:-0500
TZNAME:EST
DTSTART:20241103T060000
END:STANDARD
BEGIN:DAYLIGHT
TZOFFSETFROM:-0500
TZOFFSETTO:-0400
TZNAME:EDT
DTSTART:20250309T070000
END:DAYLIGHT
BEGIN:STANDARD
TZOFFSETFROM:-0400
TZOFFSETTO:-0500
TZNAME:EST
DTSTART:20251102T060000
END:STANDARD
END:VTIMEZONE
BEGIN:VEVENT
DTSTART;VALUE=DATE:20240412
DTEND;VALUE=DATE:20240608
DTSTAMP:20260422T055932
CREATED:20240319T205230Z
LAST-MODIFIED:20240513T110211Z
UID:10000972-1712880000-1717804799@uvjam.org
SUMMARY:In Security // In Community
DESCRIPTION:A multimedia installation exploring our relationship to home and the evolution of housing\, deconstructing that relationship\, and envisioning a new one. \nA reception with the artists and other local housing advocates and organizations will be held on First Friday\, May 3rd. \nAbout the Artists\nCorrine Yonce is an artist\, fair & affordable housing advocate\, and documentarian.  She combines visual art with ethnographic media\, including audio interviews\, household objects\, and photographs\, to explore how our individual ideas of home situates into our shared sense of community. For more about Corrine and her work\, visit https://www.cmyonce.com/ \n \nJordyn Fitch is a filmmaker\, media educator\, community organizer\, and shenanigans instigator from South Florida. They are the Production Manager at Junction Arts & Media. They live in Lebanon\, NH with their lovely wife and slightly wilting plants. Jordyn has a website that is not nearly as nice as Corrines’. You can check it out at your own risk\, HERE. \n \nMaeve Littau graduated from Dartmouth College where she majored in Government\, with a focus on political violence. She is interested in community organizing and public policy\, as well as filmmaking and editing. \n \nMade possible in part by funding from
URL:https://uvjam.org/event/in-security-in-community/
LOCATION:JAM – Junction Arts & Media\, 5 S Main St\, White River Junction\, VT\, 05001\, United States
CATEGORIES:Past Events
ATTACH;FMTTYPE=image/png:https://uvjam.org/wp-content/uploads/2024/03/Security-2-e1712325605742.png
END:VEVENT
BEGIN:VEVENT
DTSTART;TZID=America/New_York:20240502T190000
DTEND;TZID=America/New_York:20240502T203000
DTSTAMP:20260422T055932
CREATED:20240404T135633Z
LAST-MODIFIED:20240513T110210Z
UID:10000988-1714676400-1714681800@uvjam.org
SUMMARY:Lampshade Poets Open Mic
DESCRIPTION:Lampshade Poets RSVP\n                            Please RSVP so we can be prepared with seating. \n                        \n                        Email(Required)\n                            \n                        Number of Atendees(Required)Please enter a number greater than or equal to 1.Do you want to share an original poem?(Required)\n			\n					\n					Yes and please record it!\n			\n			\n					\n					Yes but turn the cameras off!\n			\n			\n					\n					Not this time!\n			Name of poet sharing workHow did you hear about this event?\n			\n					\n					Lampshade Poets Email List\n			\n			\n					\n					JAM Email List\n			\n			\n					\n					Newspaper Ad\n			\n			\n					\n					Social Media\n			\n			\n					\n					Word of Mouth\n			\n          \n            \n            \n            \n            \n            \n            \n            \n            \n            \n            \n            \n            \n            \n        \n                        Δ \n                        \n\n\n\n\nIn 2012 David Celone couldn’t find a poetry reading group in the Upper Valley area\, so he started his own\, offering readings both at his then Long River Studios Gallery in Lyme\, NH\, and WRJ\, where Lampscapes owner Ken Blaisdell opened his store to the event. Two of the original poets\, Janet Watton and Pam Ahlen\, will resume the readings at JAM\, open to all Lampshaders as well as any poet who is interested in reading an original piece or two. Poets have the opportunity to be videoed for JAM’s community access station and YouTube channel if they wish.\n\n\nMade possible in part by funding from
URL:https://uvjam.org/event/lampshade-poets-open-mic-2/
LOCATION:JAM – Junction Arts & Media\, 5 S Main St\, White River Junction\, VT\, 05001\, United States
CATEGORIES:Past Events
ATTACH;FMTTYPE=image/png:https://uvjam.org/wp-content/uploads/2024/01/Lampshade-Poets_-e1719938117870.png
END:VEVENT
BEGIN:VEVENT
DTSTART;TZID=America/New_York:20240503T170000
DTEND;TZID=America/New_York:20240520T170000
DTSTAMP:20260422T055932
CREATED:20240423T161031Z
LAST-MODIFIED:20240513T110210Z
UID:10000992-1714755600-1716224400@uvjam.org
SUMMARY:CCV Digital Photography Class Showcase
DESCRIPTION:Opening reception on May 3rd First Friday from 5 -6 PM with snacks and drinks! \nCommunity College of Vermont (CCV) is pleased to announce an upcoming exhibition showcasing the photographic work of students from our Intro to Digital Photography class\, held at our White River Junction campus. In an era marked by the ubiquity of image capture\, the class posed a fundamental inquiry: What defines a photographer amidst the proliferation of images? The response—our voices\, as expressed through the time and place in which we create our images and visual stories. Each photograph brings to life the distinct voice of its creator while weaving together our community. Through the lens of digital image-making\, our students invite you to explore the visual tapestry of our local community. Their photographs offer glimpses into moments\, emotions\, and stories\, with each frame reflecting the unique perspective of the individual behind the camera. \nMade possible in part by funding from
URL:https://uvjam.org/event/ccv-digital-photography-class-showcase/
LOCATION:JAM – Junction Arts & Media\, 5 S Main St\, White River Junction\, VT\, 05001\, United States
CATEGORIES:Past Events
ATTACH;FMTTYPE=image/jpeg:https://uvjam.org/wp-content/uploads/2024/04/0.jpeg
END:VEVENT
END:VCALENDAR