BEGIN:VCALENDAR
VERSION:2.0
PRODID:-//Junction Arts &amp; Media - ECPv6.15.14//NONSGML v1.0//EN
CALSCALE:GREGORIAN
METHOD:PUBLISH
X-WR-CALNAME:Junction Arts &amp; Media
X-ORIGINAL-URL:https://uvjam.org
X-WR-CALDESC:Events for Junction Arts &amp; Media
REFRESH-INTERVAL;VALUE=DURATION:PT1H
X-Robots-Tag:noindex
X-PUBLISHED-TTL:PT1H
BEGIN:VTIMEZONE
TZID:America/New_York
BEGIN:DAYLIGHT
TZOFFSETFROM:-0500
TZOFFSETTO:-0400
TZNAME:EDT
DTSTART:20230312T070000
END:DAYLIGHT
BEGIN:STANDARD
TZOFFSETFROM:-0400
TZOFFSETTO:-0500
TZNAME:EST
DTSTART:20231105T060000
END:STANDARD
BEGIN:DAYLIGHT
TZOFFSETFROM:-0500
TZOFFSETTO:-0400
TZNAME:EDT
DTSTART:20240310T070000
END:DAYLIGHT
BEGIN:STANDARD
TZOFFSETFROM:-0400
TZOFFSETTO:-0500
TZNAME:EST
DTSTART:20241103T060000
END:STANDARD
BEGIN:DAYLIGHT
TZOFFSETFROM:-0500
TZOFFSETTO:-0400
TZNAME:EDT
DTSTART:20250309T070000
END:DAYLIGHT
BEGIN:STANDARD
TZOFFSETFROM:-0400
TZOFFSETTO:-0500
TZNAME:EST
DTSTART:20251102T060000
END:STANDARD
END:VTIMEZONE
BEGIN:VEVENT
DTSTART;VALUE=DATE:20240412
DTEND;VALUE=DATE:20240608
DTSTAMP:20260420T054127
CREATED:20240319T205230Z
LAST-MODIFIED:20240513T110211Z
UID:10000972-1712880000-1717804799@uvjam.org
SUMMARY:In Security // In Community
DESCRIPTION:A multimedia installation exploring our relationship to home and the evolution of housing\, deconstructing that relationship\, and envisioning a new one. \nA reception with the artists and other local housing advocates and organizations will be held on First Friday\, May 3rd. \nAbout the Artists\nCorrine Yonce is an artist\, fair & affordable housing advocate\, and documentarian.  She combines visual art with ethnographic media\, including audio interviews\, household objects\, and photographs\, to explore how our individual ideas of home situates into our shared sense of community. For more about Corrine and her work\, visit https://www.cmyonce.com/ \n \nJordyn Fitch is a filmmaker\, media educator\, community organizer\, and shenanigans instigator from South Florida. They are the Production Manager at Junction Arts & Media. They live in Lebanon\, NH with their lovely wife and slightly wilting plants. Jordyn has a website that is not nearly as nice as Corrines’. You can check it out at your own risk\, HERE. \n \nMaeve Littau graduated from Dartmouth College where she majored in Government\, with a focus on political violence. She is interested in community organizing and public policy\, as well as filmmaking and editing. \n \nMade possible in part by funding from
URL:https://uvjam.org/event/in-security-in-community/
LOCATION:JAM – Junction Arts & Media\, 5 S Main St\, White River Junction\, VT\, 05001\, United States
CATEGORIES:Past Events
ATTACH;FMTTYPE=image/png:https://uvjam.org/wp-content/uploads/2024/03/Security-2-e1712325605742.png
END:VEVENT
BEGIN:VEVENT
DTSTART;TZID=America/New_York:20240603T173000
DTEND;TZID=America/New_York:20240603T190000
DTSTAMP:20260420T054127
CREATED:20240423T185703Z
LAST-MODIFIED:20241019T201555Z
UID:10000815-1717435800-1717441200@uvjam.org
SUMMARY:JAM Scriptwriters Group
DESCRIPTION:Gather bi-weekly with a dedicated group to meet talented local writers\, learn new script writing techniques\, and receive peer feedback on your work. \nMeetings are free of charge and not mandatory\, but we encourage consistent participation to get the most out of this group! \nFor more information and to register\, click HERE. \nMade possible in part by funding from
URL:https://uvjam.org/event/scriptwritersgroup-2-2/2024-06-03/
LOCATION:JAM – Junction Arts & Media\, 5 S Main St\, White River Junction\, VT\, 05001\, United States
CATEGORIES:Media Education,Past Events
ATTACH;FMTTYPE=image/png:https://uvjam.org/wp-content/uploads/2024/04/Screenwriters-poster.png
END:VEVENT
BEGIN:VEVENT
DTSTART;TZID=America/New_York:20240607T173000
DTEND;TZID=America/New_York:20240607T190000
DTSTAMP:20260420T054127
CREATED:20240510T181310Z
LAST-MODIFIED:20241019T201424Z
UID:10001002-1717781400-1717786800@uvjam.org
SUMMARY:Radiate with Lisa Piccirillo\, Jes Raymond and Allison Fay Brown at First Friday
DESCRIPTION:Live performances by Lisa Piccirillo\, Jes Raymond\, and Allison Fay Brown celebrating creative reclamation and the upcoming release of the first single/title track of Piccirillo’s forthcoming album “RADIATE.” \n \nABOUT THE MUSICIANS\nJes Raymond is an award winning singer-songwriter and multi-instrumentalist. Recipient of The Seattle City Artist Award\, Vermont Arts Council Creation Grant\, and Jackstraw Artist Award\, her songs explore muses of wonder and myth in the day-to-day. She has 3 National Releases\, one solo and two under the band name The Blackberry Bushes. Ten years of national touring have distilled her sound into something part festival and part mountaintop that aims to stir the spirit in any room. Find her at https://jesraymond.com\n\nAllison Fay Brown is an independent folk/rock singer-songwriter based in Vermont. She sings the truth of her heart\, and in this loud\, loud world\, her songs carve stories worth listening and leaning into. https://allisonfaybrown.bandcamp.com\n\nVermont-based Lisa Piccirillo is known for her hypnotic voice\, which has drawn comparisons to powerhouse vocalists from Patty Griffin to Christina Aguilera. Her forthcoming record\, RADIATE\, chronicles Lisa’s vast emotional landscape with her signature blend of vulnerable songwriting and commanding vocals. Find her at https://www.lisapmusic.com\n         \n\n\nMADE POSSIBLE IN PART BY FUNDING FROM
URL:https://uvjam.org/event/radiate-with-lisa-piccirillo-and-friends/
LOCATION:JAM – Junction Arts & Media\, 5 S Main St\, White River Junction\, VT\, 05001\, United States
CATEGORIES:Community Events,Live Music,Live Performance,Past Events
ATTACH;FMTTYPE=image/jpeg:https://uvjam.org/wp-content/uploads/2024/05/Lisa-Piccarillo_Kickstarterw_Text-scaled.jpg
END:VEVENT
BEGIN:VEVENT
DTSTART;TZID=America/New_York:20240608T100000
DTEND;TZID=America/New_York:20240608T143000
DTSTAMP:20260420T054127
CREATED:20240308T191340Z
LAST-MODIFIED:20241019T200856Z
UID:10000971-1717840800-1717857000@uvjam.org
SUMMARY:Experimental Animation Workshop
DESCRIPTION:Anyone can create exciting\, unique animation\, regardless of age\, experience\, or technical proficiency!\nYour instructor Noah Mauchly will teach you the basics of how to use animation software to allow your imagination to run wild and most importantly have fun creating and exploring the endless possibilities of experimental animation. This workshop is geared towards adults but all experience levels are welcome! Sign up for FREE below. \nAbout the Instructor\nNoah Mauchly is an animator and short filmmaker born and raised in New Hampshire. He is a 2020 graduate of Kingston University’s School of Art and currently works as a freelance animator and for YouTube under the moniker Noah Sportsman. His short films have been screened in several festivals across the US and Europe. \n \n\nMade possible in part by funding from
URL:https://uvjam.org/event/experimental-animation/
LOCATION:JAM – Junction Arts & Media\, 5 S Main St\, White River Junction\, VT\, 05001\, United States
CATEGORIES:Past Events
ATTACH;FMTTYPE=image/jpeg:https://uvjam.org/wp-content/uploads/2024/03/experimentalanimationflyerdraft1.jpg
END:VEVENT
END:VCALENDAR