BEGIN:VCALENDAR
VERSION:2.0
PRODID:-//Junction Arts &amp; Media - ECPv6.15.14//NONSGML v1.0//EN
CALSCALE:GREGORIAN
METHOD:PUBLISH
X-ORIGINAL-URL:https://uvjam.org
X-WR-CALDESC:Events for Junction Arts &amp; Media
REFRESH-INTERVAL;VALUE=DURATION:PT1H
X-Robots-Tag:noindex
X-PUBLISHED-TTL:PT1H
BEGIN:VTIMEZONE
TZID:America/New_York
BEGIN:DAYLIGHT
TZOFFSETFROM:-0500
TZOFFSETTO:-0400
TZNAME:EDT
DTSTART:20230312T070000
END:DAYLIGHT
BEGIN:STANDARD
TZOFFSETFROM:-0400
TZOFFSETTO:-0500
TZNAME:EST
DTSTART:20231105T060000
END:STANDARD
BEGIN:DAYLIGHT
TZOFFSETFROM:-0500
TZOFFSETTO:-0400
TZNAME:EDT
DTSTART:20240310T070000
END:DAYLIGHT
BEGIN:STANDARD
TZOFFSETFROM:-0400
TZOFFSETTO:-0500
TZNAME:EST
DTSTART:20241103T060000
END:STANDARD
BEGIN:DAYLIGHT
TZOFFSETFROM:-0500
TZOFFSETTO:-0400
TZNAME:EDT
DTSTART:20250309T070000
END:DAYLIGHT
BEGIN:STANDARD
TZOFFSETFROM:-0400
TZOFFSETTO:-0500
TZNAME:EST
DTSTART:20251102T060000
END:STANDARD
END:VTIMEZONE
BEGIN:VEVENT
DTSTART;TZID=America/New_York:20240715T173000
DTEND;TZID=America/New_York:20240715T190000
DTSTAMP:20260424T083158
CREATED:20240423T185703Z
LAST-MODIFIED:20241019T201555Z
UID:10000818-1721064600-1721070000@uvjam.org
SUMMARY:JAM Scriptwriters Group
DESCRIPTION:Gather bi-weekly with a dedicated group to meet talented local writers\, learn new script writing techniques\, and receive peer feedback on your work. \nMeetings are free of charge and not mandatory\, but we encourage consistent participation to get the most out of this group! \nFor more information and to register\, click HERE. \nMade possible in part by funding from
URL:https://uvjam.org/event/scriptwritersgroup-2-2/2024-07-15/
LOCATION:JAM – Junction Arts & Media\, 5 S Main St\, White River Junction\, VT\, 05001\, United States
CATEGORIES:Media Education,Past Events
ATTACH;FMTTYPE=image/png:https://uvjam.org/wp-content/uploads/2024/04/Screenwriters-poster.png
END:VEVENT
BEGIN:VEVENT
DTSTART;TZID=America/New_York:20240718T180000
DTEND;TZID=America/New_York:20240718T193000
DTSTAMP:20260424T083158
CREATED:20240521T203623Z
LAST-MODIFIED:20241019T200728Z
UID:10001005-1721325600-1721331000@uvjam.org
SUMMARY:Story Jam: Bi-monthly Storytelling Circle
DESCRIPTION:THIS MONTH’S THEME IS: LOST & FOUND\nIn a society increasingly divided and isolated\, storytelling can bring us together.Story Jam is a bi-monthly story circle where community members can meet to get to know each other through personal stories. All members of the Upper Valley community are invited to join the circle and share an unrehearsed 5-minute true story from their own life. No competition\, no judgment\, no lecturing\, no ranting… Just share a story about something that happened to you and listen to other people’s stories. Whether you are a new or seasoned storyteller; whether you are shy or extroverted – all are welcome! The moderators will keep track of time to make sure everyone has a chance to speak.  Read more about StoryJAM and Upper Valley storytelling in Daybreak!\n\nFor more info\, reach us at storyjam@uvjam.org\n\n\nMADE POSSIBLE IN PART BY FUNDING FROM
URL:https://uvjam.org/event/story-jam-bi-monthly-storytelling-circle-4/
LOCATION:JAM – Junction Arts & Media\, 5 S Main St\, White River Junction\, VT\, 05001\, United States
CATEGORIES:Past Events
ATTACH;FMTTYPE=image/png:https://uvjam.org/wp-content/uploads/2024/02/Story_Jam-copy.png
END:VEVENT
END:VCALENDAR