BEGIN:VCALENDAR
VERSION:2.0
PRODID:-//Junction Arts &amp; Media - ECPv6.15.14//NONSGML v1.0//EN
CALSCALE:GREGORIAN
METHOD:PUBLISH
X-ORIGINAL-URL:https://uvjam.org
X-WR-CALDESC:Events for Junction Arts &amp; Media
REFRESH-INTERVAL;VALUE=DURATION:PT1H
X-Robots-Tag:noindex
X-PUBLISHED-TTL:PT1H
BEGIN:VTIMEZONE
TZID:America/New_York
BEGIN:DAYLIGHT
TZOFFSETFROM:-0500
TZOFFSETTO:-0400
TZNAME:EDT
DTSTART:20230312T070000
END:DAYLIGHT
BEGIN:STANDARD
TZOFFSETFROM:-0400
TZOFFSETTO:-0500
TZNAME:EST
DTSTART:20231105T060000
END:STANDARD
BEGIN:DAYLIGHT
TZOFFSETFROM:-0500
TZOFFSETTO:-0400
TZNAME:EDT
DTSTART:20240310T070000
END:DAYLIGHT
BEGIN:STANDARD
TZOFFSETFROM:-0400
TZOFFSETTO:-0500
TZNAME:EST
DTSTART:20241103T060000
END:STANDARD
BEGIN:DAYLIGHT
TZOFFSETFROM:-0500
TZOFFSETTO:-0400
TZNAME:EDT
DTSTART:20250309T070000
END:DAYLIGHT
BEGIN:STANDARD
TZOFFSETFROM:-0400
TZOFFSETTO:-0500
TZNAME:EST
DTSTART:20251102T060000
END:STANDARD
END:VTIMEZONE
BEGIN:VEVENT
DTSTART;TZID=America/New_York:20240729T173000
DTEND;TZID=America/New_York:20240729T190000
DTSTAMP:20260423T012449
CREATED:20240726T175824Z
LAST-MODIFIED:20250610T205827Z
UID:10000819-1722274200-1722279600@uvjam.org
SUMMARY:JAM Scriptwriters Group
DESCRIPTION:Gather bi-weekly with a dedicated group of talented local writers for an informal peer review circle. Meetings are free of charge and not mandatory\, but we encourage consistent participation to get the most out of this group! \nTo join our email chain and stay in the loop\, contact cedar@uvjam.org \nMade possible in part by funding from
URL:https://uvjam.org/event/scriptwritersgroup-2-2-2/
LOCATION:JAM – Junction Arts & Media\, 5 S Main St\, White River Junction\, VT\, 05001\, United States
CATEGORIES:Media Education
ATTACH;FMTTYPE=image/png:https://uvjam.org/wp-content/uploads/2024/04/Scriptwriters-poster.png
END:VEVENT
BEGIN:VEVENT
DTSTART;TZID=America/New_York:20240802T180000
DTEND;TZID=America/New_York:20240802T200000
DTSTAMP:20260423T012449
CREATED:20240702T194617Z
LAST-MODIFIED:20241019T200717Z
UID:10001014-1722621600-1722628800@uvjam.org
SUMMARY:First Friday Live Music with Nana¡  and Johnny B
DESCRIPTION:Come celebrate new albums by talented\, young\, independent musicians\, Nana¡ and Johnny B. \nDoors at 6:00 PM\, music @ 6:30. All ages\, free or by donation! \nABOUT THE MUSICIANS\n \nNana¡ is an independent singer/songwriter\, drummer\, producer\, and squid born in Lafayette\, Indiana. Ever since she was little she has always had an interest in music and performance. She first started making beats using the mobile app “Music Maker JAM” at age 11 then moved to the app BandLab at age 14. Since she’s moved to Vermont in 2021\, Nana¡ has been honing her skills as a musician working with the local Vermont Black Artist Showcase\, attending Berklee College of Music’s 5 – Week summer program in 2023\, and recording her album “DIMENSIONS” over the course of 4 years. Nana¡ hopes to attract fans who enjoy “multiple genres of music\, weird things\, and squids.” \nListen @ https://linktr.ee/nanaupsidedown \n  \n  \n  \n \nJohn Bieszczad is an independent artist from Grantham\, NH\, who writes and plays original music that can be described as a blend of alt country with indie folk. He mainly utilizes an acoustic guitar with a little harmonica to develop a story and feeling in his song. At the end of the day\, he is here to connect with the listener and bring joy and camaraderie through his music. \nListen @ https://www.musicbyjohnnyb.com/ \n  \n  \n  \n  \n\nMADE POSSIBLE IN PART BY FUNDING FROM
URL:https://uvjam.org/event/first-friday-live-music-with-nana-and-johnny-b/
LOCATION:JAM – Junction Arts & Media\, 5 S Main St\, White River Junction\, VT\, 05001\, United States
CATEGORIES:Past Events
ATTACH;FMTTYPE=image/png:https://uvjam.org/wp-content/uploads/2024/07/Screenshot-2024-07-02-at-3.36.45 PM.png
END:VEVENT
END:VCALENDAR