BEGIN:VCALENDAR
VERSION:2.0
PRODID:-//Junction Arts &amp; Media - ECPv6.15.14//NONSGML v1.0//EN
CALSCALE:GREGORIAN
METHOD:PUBLISH
X-ORIGINAL-URL:https://uvjam.org
X-WR-CALDESC:Events for Junction Arts &amp; Media
REFRESH-INTERVAL;VALUE=DURATION:PT1H
X-Robots-Tag:noindex
X-PUBLISHED-TTL:PT1H
BEGIN:VTIMEZONE
TZID:America/New_York
BEGIN:DAYLIGHT
TZOFFSETFROM:-0500
TZOFFSETTO:-0400
TZNAME:EDT
DTSTART:20230312T070000
END:DAYLIGHT
BEGIN:STANDARD
TZOFFSETFROM:-0400
TZOFFSETTO:-0500
TZNAME:EST
DTSTART:20231105T060000
END:STANDARD
BEGIN:DAYLIGHT
TZOFFSETFROM:-0500
TZOFFSETTO:-0400
TZNAME:EDT
DTSTART:20240310T070000
END:DAYLIGHT
BEGIN:STANDARD
TZOFFSETFROM:-0400
TZOFFSETTO:-0500
TZNAME:EST
DTSTART:20241103T060000
END:STANDARD
BEGIN:DAYLIGHT
TZOFFSETFROM:-0500
TZOFFSETTO:-0400
TZNAME:EDT
DTSTART:20250309T070000
END:DAYLIGHT
BEGIN:STANDARD
TZOFFSETFROM:-0400
TZOFFSETTO:-0500
TZNAME:EST
DTSTART:20251102T060000
END:STANDARD
END:VTIMEZONE
BEGIN:VEVENT
DTSTART;TZID=America/New_York:20241002T090000
DTEND;TZID=America/New_York:20241130T170000
DTSTAMP:20260420T122734
CREATED:20241001T172236Z
LAST-MODIFIED:20241001T172328Z
UID:10001042-1727859600-1732986000@uvjam.org
SUMMARY:Animation Loops Exhibit 2024
DESCRIPTION:A projected showcase of short animations featuring work by local and locally connected animators\, on display during JAM’s open hours. \nFeatured Artists\nJAM 2024 Advanced Animation Camp \nAlec Longstreth \nTracy Hill \nJanel Sharman \nMelyanet Suarez \nRachel Bernsen \nJenna Jurgelewicz \nNoah Mauchly \nDan Nott \nAlex Roberts \nCedar O’Dowd \nNoah Mease \nAttendees of the 6/8/2024 Experimental Animation Workshop \n 
URL:https://uvjam.org/event/animation-loops-2024/
LOCATION:JAM – Junction Arts & Media\, 5 S Main St\, White River Junction\, VT\, 05001\, United States
ATTACH;FMTTYPE=image/png:https://uvjam.org/wp-content/uploads/2024/10/Animation-Loops-Cover-Photo PM.png
END:VEVENT
BEGIN:VEVENT
DTSTART;TZID=America/New_York:20241107T190000
DTEND;TZID=America/New_York:20241107T200000
DTSTAMP:20260420T122734
CREATED:20240801T181148Z
LAST-MODIFIED:20241017T235114Z
UID:10001024-1731006000-1731009600@uvjam.org
SUMMARY:Comics and Queerness in Vermont and Beyond: Vermont Humanities Snapshot with Tillie Walden
DESCRIPTION:Vermont Cartoonist Laureate Tillie Walden presents a look at the intersection of indie comics with queer identity through her many graphic novels—from science fiction to memoir to historical retelling. She explores the process and power of visual narrative and shares why comics are relevant to Vermonters and everyone else.  \nRegister for free here. \nAbout Tillie Walden\nTillie Walden has published five graphic novels and a webcomic. She won the 2018 Eisner Award for Best Reality-Based Work for her graphic novel Spinning\, making her one of the youngest Eisner Award winners ever. She was named Vermont’s Cartoonist Laureate for the years 2023 to 2026. Walden’s On a Sunbeam was adapted into a graphic novel that won the 2018 Los Angeles Times Book Prize. She is currently working with Vermont Humanities on a historical graphic novel about Charity Bryant and Sylvia Drake\, one of Vermont’s earliest documented queer couples. \n  \nVermont Humanities Snapshot Series\nThe Snapshot Series consists of free talks held at public libraries around Vermont and streamed online. The program is supported by Alma Gibbs Donchian Foundation\, Institute of Museum and Library Services\, Vermont Department of Libraries. View other upcoming Snapshot events here or browse past lectures. \n \n 
URL:https://uvjam.org/event/comics-and-queerness-in-vermont-and-beyond-vermont-humanities-snapshot-with-tillie-walden/
LOCATION:JAM – Junction Arts & Media\, 5 S Main St\, White River Junction\, VT\, 05001\, United States
ATTACH;FMTTYPE=image/jpeg:https://uvjam.org/wp-content/uploads/2024/08/tillie.jpg
END:VEVENT
BEGIN:VEVENT
DTSTART;TZID=America/New_York:20241108T093000
DTEND;TZID=America/New_York:20241108T103000
DTSTAMP:20260420T122734
CREATED:20241014T222737Z
LAST-MODIFIED:20241204T181758Z
UID:10001044-1731058200-1731061800@uvjam.org
SUMMARY:MEDIATED LIVES:  The United States vs. TikTok
DESCRIPTION:JAM welcomes the public to join this interactive Supreme Court oral arguments simulation in which YOU\, the audience\, will decide the case. Discussion about this case\, larger issues of free speech and social media it raises\, and the workings of the US Supreme court to follow. \nPresented in partnership with Vermont Law and Graduate School and Lebanon High School\, this event is free\, open to the public\, and will be recorded by JAM.  Please RSVP below. \nTHE FIRST AMENDMENT AND THE TIKTOK BAN: \nA MOOT COURT EXERCISE \nI. Overview \nIn 2024 Congress passed the “Protecting Americans from Foreign Adversary\nControlled Application Act\,” often popularly referred to as the “TikTok Ban.”\nTikTok is a short-form video hosting service owned by the Chinese internet\ncompany ByteDance. The Act designates the People’s Republic of China as a\n“foreign adversary” nation. The Act requires ByteDance to divest TikTok\, so that\nTikTok is no longer owned and controlled by a Chinese company. If TikTok is not\ndivested\, it will no longer be permitted to operate in the United States.\nTikTok and ByteDance\, joined by several American creators\, persons who\npost creative content on TikTok\, filed a federal lawsuit claiming that the Act\nviolated the First Amendment’s guarantee of freedom of speech.\nIn this exercise the audience will hear an oral argument on the\nconstitutionality of the TikTok ban. Audience members will serve as members of\nthe United States Supreme Court. Rod Smolla\, President of Vermont Law and\nGraduate School\, will first play the role of a lawyer representing TikTok\, attacking\nthe TikTok Ban\, and then play the role of a lawyer representing the United States\,\ndefending the TikTok Ban. The audience members playing the roles of Supreme\nCourt Justices will be invited to interrupt and question both lawyer-advocates.\nFollowing the arguments the audience members will be invited to explain why they\nbelieve the Ban should or should not be upheld\, followed by an audience vote on\nthe outcome. \n\n \n  \n \nAbout Rodney A. Smolla\, JD\, President\, Vermont Law and Graduate School: \nPreviously president of Furman University\, and dean at Washington and Lee University and University of Richmond law schools\, Professor Smolla has long been a strong advocate for experiential learning\, the development of professional competencies\, and civic engagement. The author of more than 100 articles published in law reviews and other publications\, he is a nationally known scholar on matters relating to constitutional law\, civil rights\, freedom of speech\, and mass media\, particularly matters relating to libel and privacy.  Learn more. \n  \nABOUT MEDIATED LIVES\nThis event is part of JAM’s “Mediated Lives” series which aims to explore the roll of our current media landscape in shaping American culture\, free speech\, creativity\, community\, and democracy.
URL:https://uvjam.org/event/the-united-states-vs-tiktok/
LOCATION:Briggs Opera House\, 5 S Main St\, White River Junction\, VT\, 05001\, United States
ATTACH;FMTTYPE=image/jpeg:https://uvjam.org/wp-content/uploads/2024/10/VLGS-Supreme-Court-Nov-8-graphic_breif.jpg
END:VEVENT
END:VCALENDAR