BEGIN:VCALENDAR
VERSION:2.0
PRODID:-//Junction Arts &amp; Media - ECPv6.15.14//NONSGML v1.0//EN
CALSCALE:GREGORIAN
METHOD:PUBLISH
X-WR-CALNAME:Junction Arts &amp; Media
X-ORIGINAL-URL:https://uvjam.org
X-WR-CALDESC:Events for Junction Arts &amp; Media
REFRESH-INTERVAL;VALUE=DURATION:PT1H
X-Robots-Tag:noindex
X-PUBLISHED-TTL:PT1H
BEGIN:VTIMEZONE
TZID:America/New_York
BEGIN:DAYLIGHT
TZOFFSETFROM:-0500
TZOFFSETTO:-0400
TZNAME:EDT
DTSTART:20240310T070000
END:DAYLIGHT
BEGIN:STANDARD
TZOFFSETFROM:-0400
TZOFFSETTO:-0500
TZNAME:EST
DTSTART:20241103T060000
END:STANDARD
BEGIN:DAYLIGHT
TZOFFSETFROM:-0500
TZOFFSETTO:-0400
TZNAME:EDT
DTSTART:20250309T070000
END:DAYLIGHT
BEGIN:STANDARD
TZOFFSETFROM:-0400
TZOFFSETTO:-0500
TZNAME:EST
DTSTART:20251102T060000
END:STANDARD
BEGIN:DAYLIGHT
TZOFFSETFROM:-0500
TZOFFSETTO:-0400
TZNAME:EDT
DTSTART:20260308T070000
END:DAYLIGHT
BEGIN:STANDARD
TZOFFSETFROM:-0400
TZOFFSETTO:-0500
TZNAME:EST
DTSTART:20261101T060000
END:STANDARD
END:VTIMEZONE
BEGIN:VEVENT
DTSTART;VALUE=DATE:20250411
DTEND;VALUE=DATE:20250531
DTSTAMP:20260422T142039
CREATED:20250304T191506Z
LAST-MODIFIED:20250319T163427Z
UID:10001579-1744329600-1748649599@uvjam.org
SUMMARY:Exhibit: Arantza Peña Popo's Visual Journalism
DESCRIPTION:Comics journalism engages journalistic practices and cartooning techniques to explain true\, current events in a visually engaging way. \nArantza Peña Popo first started her journalism career as a student at USC’s Annenberg School for Journalism. She later on went to work at NPR-Affiliated public radio station KPCC in Los Angeles and as a Story Art Fellow at Business Insider in New York. She has done comics journalism reporting for the Washington Post\, LA Times\, The Stranger Seattle\, and Business Insider. She uses her comics journalism work to illuminate stories about queerness and belonging through the magical storytelling power of comics. See Peña Popo’s full color illustrations projected on the walls of JAM this month along with original art on display during open hours. \nAttend a FREE zine workshop with the exhibiting artist on First Friday\, May 2. \nABOUT THE ARTIST\n\nArantza Peña Popo (they/she) is currently a Fellow at the Center for Cartoon Studies. They are an Igntaz-Award nominated cartoonist\, illustrator and zinester who grew up in Atlanta Georgia. They’ve also made several editorial illustrations for publications like the LA Times\, New York Times\, Washington Post\, and had a short but wonderful stint as a New Yorker cartoonist. She’s been invited to show her work at multiple art book and comics fairs around the world in Berlin\, Los Angeles\, and Montreal. Her vibrant comics focus on queerness\, isolation\, mental instability and hazy boundaries of the in between. \nWith generous support from
URL:https://uvjam.org/event/exhibit-arantza-pena-popos-visual-journalism/
LOCATION:JAM – Junction Arts & Media\, 5 S Main St\, White River Junction\, VT\, 05001\, United States
ATTACH;FMTTYPE=image/jpeg:https://uvjam.org/wp-content/uploads/2025/03/Panel_5.jpg
END:VEVENT
BEGIN:VEVENT
DTSTART;TZID=America/New_York:20250507T180000
DTEND;TZID=America/New_York:20250507T190000
DTSTAMP:20260422T142039
CREATED:20250218T222341Z
LAST-MODIFIED:20250506T164320Z
UID:10001513-1746640800-1746644400@uvjam.org
SUMMARY:Louise Glück: Vermont’s Nobel Laureate - Vermont Humanities Snapshot Series Event
DESCRIPTION:Vermont’s landscapes inspired Nobel Laureate Louise Glück’s best poems\, ones that reflect on the resilience\, loss\, and beauty that connect human experiences with the natural world. Vermont novelist\, poet\, and professor Elizabeth A.I. Powell explores the transformative work of this seminal artist. \nRSVP here.\nOR Watch Online\n \nAbout Elizabeth A.I. Powell\n \nElizabeth A.I. Powell is the author of three books of poems\, most recently “Atomizer” (LSU Press). Her second book of poems\, “Willy Loman’s Reckless Daughter: Living Truthfully Under Imaginary Circumstances” was a “Books We Love 2016” by The New Yorker. Her novel\, “Concerning the Holy Ghost’s Interpretation of JCrew Catalogues” was published in 2019 in the U.K. Recent poems appear in The New Republic\, American Poetry Review\, Women’s Review of Books\, among others. She is Professor of Creative Writing at Northern Vermont University. \nAbout Vermont Humanities Snapshot Series\nVermont Humanities Snapshot Series Events are free talks held at public libraries around Vermont and streamed online. Watch past Snapshot presentations here.
URL:https://uvjam.org/event/vermont-humanities-snapshot/
LOCATION:JAM – Junction Arts & Media\, 5 S Main St\, White River Junction\, VT\, 05001\, United States
ATTACH;FMTTYPE=image/jpeg:https://uvjam.org/wp-content/uploads/2025/02/477933885_1059640912871077_4912972197355747812_n.jpg
END:VEVENT
END:VCALENDAR