BEGIN:VCALENDAR
VERSION:2.0
PRODID:-//Junction Arts &amp; Media - ECPv6.15.14//NONSGML v1.0//EN
CALSCALE:GREGORIAN
METHOD:PUBLISH
X-WR-CALNAME:Junction Arts &amp; Media
X-ORIGINAL-URL:https://uvjam.org
X-WR-CALDESC:Events for Junction Arts &amp; Media
REFRESH-INTERVAL;VALUE=DURATION:PT1H
X-Robots-Tag:noindex
X-PUBLISHED-TTL:PT1H
BEGIN:VTIMEZONE
TZID:America/New_York
BEGIN:DAYLIGHT
TZOFFSETFROM:-0500
TZOFFSETTO:-0400
TZNAME:EDT
DTSTART:20240310T070000
END:DAYLIGHT
BEGIN:STANDARD
TZOFFSETFROM:-0400
TZOFFSETTO:-0500
TZNAME:EST
DTSTART:20241103T060000
END:STANDARD
BEGIN:DAYLIGHT
TZOFFSETFROM:-0500
TZOFFSETTO:-0400
TZNAME:EDT
DTSTART:20250309T070000
END:DAYLIGHT
BEGIN:STANDARD
TZOFFSETFROM:-0400
TZOFFSETTO:-0500
TZNAME:EST
DTSTART:20251102T060000
END:STANDARD
BEGIN:DAYLIGHT
TZOFFSETFROM:-0500
TZOFFSETTO:-0400
TZNAME:EDT
DTSTART:20260308T070000
END:DAYLIGHT
BEGIN:STANDARD
TZOFFSETFROM:-0400
TZOFFSETTO:-0500
TZNAME:EST
DTSTART:20261101T060000
END:STANDARD
END:VTIMEZONE
BEGIN:VEVENT
DTSTART;TZID=America/New_York:20251001T080000
DTEND;TZID=America/New_York:20251029T170000
DTSTAMP:20260423T161813
CREATED:20250916T203651Z
LAST-MODIFIED:20251001T212452Z
UID:10001783-1759305600-1761757200@uvjam.org
SUMMARY:Animation Loops 2025
DESCRIPTION:On display through October during JAM’s open hours. In animation\, a loop is a continuous sequence of frames that repeats endlessly. Animators use loops because they are an efficient way to create seamless motion. These animations by local artists are an eclectic mix of bits\, bobs\, cycles\, and loops that we thought deserved to be watched over and over! \nFeaturing animations by\nDelfi Strazzolini \nSierra Carson \nJames Underwood \nMargaret Bone \nMiranda Matthews \nEllie Liota \nSierra Edwards \nMatthew DeFelice \nRene Gerrior \nAlex Roberts \nIngrid Roberts \nDave \nAnnabelle Cone \nParker Gollub \nNoah Mauchly \nRachel Bernsen \nJenna Jurgelewicz \n  \n 
URL:https://uvjam.org/event/animation-loops/
LOCATION:JAM – Junction Arts & Media\, 5 S Main St\, White River Junction\, VT\, 05001\, United States
ATTACH;FMTTYPE=image/png:https://uvjam.org/wp-content/uploads/2025/09/Community-Animation-Loops-scaled.png
END:VEVENT
BEGIN:VEVENT
DTSTART;TZID=America/New_York:20251025T190000
DTEND;TZID=America/New_York:20251026T200000
DTSTAMP:20260423T161813
CREATED:20251015T180923Z
LAST-MODIFIED:20251016T194827Z
UID:10001787-1761418800-1761508800@uvjam.org
SUMMARY:POSTPONED! 24-Hour Play Festival 2025
DESCRIPTION:Due to unforeseen circumstances\, the 2025 24-Hour Play Festival has been postponed.  Stay tuned for re-scheduling!
URL:https://uvjam.org/event/24-hour-play-festival-2025/
LOCATION:JAM – Junction Arts & Media\, 5 S Main St\, White River Junction\, VT\, 05001\, United States
ATTACH;FMTTYPE=image/webp:https://uvjam.org/wp-content/uploads/2025/10/High-Res-Logo-in-circle_1721922419.webp
END:VEVENT
BEGIN:VEVENT
DTSTART;TZID=America/New_York:20251101T180000
DTEND;TZID=America/New_York:20251101T193000
DTSTAMP:20260423T161813
CREATED:20250827T210705Z
LAST-MODIFIED:20250905T185307Z
UID:10001779-1762020000-1762025400@uvjam.org
SUMMARY:Halloween-o-thon 2025: Till Death Do Us Part
DESCRIPTION:Catch the screening and awards of JAM’s 2025 Halloween-o-thon short film contest before the Gorey Daze parade and Corn Ball! This year’s theme is “Till Death Do us Part.” Costumes are strongly encouraged! \nTo register and compete for ca$h prizes\, visit our CREATE page.
URL:https://uvjam.org/event/halloween-o-thon-2025-till-death-do-us-part/
LOCATION:JAM – Junction Arts & Media\, 5 S Main St\, White River Junction\, VT\, 05001\, United States
ATTACH;FMTTYPE=image/jpeg:https://uvjam.org/wp-content/uploads/2025/08/HOT_2025-Recovered-scaled.jpg
END:VEVENT
END:VCALENDAR