BEGIN:VCALENDAR
VERSION:2.0
PRODID:-//Junction Arts &amp; Media - ECPv6.15.14//NONSGML v1.0//EN
CALSCALE:GREGORIAN
METHOD:PUBLISH
X-WR-CALNAME:Junction Arts &amp; Media
X-ORIGINAL-URL:https://uvjam.org
X-WR-CALDESC:Events for Junction Arts &amp; Media
REFRESH-INTERVAL;VALUE=DURATION:PT1H
X-Robots-Tag:noindex
X-PUBLISHED-TTL:PT1H
BEGIN:VTIMEZONE
TZID:America/New_York
BEGIN:DAYLIGHT
TZOFFSETFROM:-0500
TZOFFSETTO:-0400
TZNAME:EDT
DTSTART:20240310T070000
END:DAYLIGHT
BEGIN:STANDARD
TZOFFSETFROM:-0400
TZOFFSETTO:-0500
TZNAME:EST
DTSTART:20241103T060000
END:STANDARD
BEGIN:DAYLIGHT
TZOFFSETFROM:-0500
TZOFFSETTO:-0400
TZNAME:EDT
DTSTART:20250309T070000
END:DAYLIGHT
BEGIN:STANDARD
TZOFFSETFROM:-0400
TZOFFSETTO:-0500
TZNAME:EST
DTSTART:20251102T060000
END:STANDARD
BEGIN:DAYLIGHT
TZOFFSETFROM:-0500
TZOFFSETTO:-0400
TZNAME:EDT
DTSTART:20260308T070000
END:DAYLIGHT
BEGIN:STANDARD
TZOFFSETFROM:-0400
TZOFFSETTO:-0500
TZNAME:EST
DTSTART:20261101T060000
END:STANDARD
BEGIN:DAYLIGHT
TZOFFSETFROM:-0500
TZOFFSETTO:-0400
TZNAME:EDT
DTSTART:20270314T070000
END:DAYLIGHT
BEGIN:STANDARD
TZOFFSETFROM:-0400
TZOFFSETTO:-0500
TZNAME:EST
DTSTART:20271107T060000
END:STANDARD
END:VTIMEZONE
BEGIN:VEVENT
DTSTART;TZID=America/New_York:20251201T090000
DTEND;TZID=America/New_York:20260308T170000
DTSTAMP:20260420T065455
CREATED:20251111T192731Z
LAST-MODIFIED:20251230T175051Z
UID:10001795-1764579600-1772989200@uvjam.org
SUMMARY:Video Stop II: Bad Video
DESCRIPTION:The year is 2003. It’s a Friday which means one thing – movie night. You are buckled into the Goldfish crumb-crusted booster seat in the back of a ’95 Honda Civic with a power steering leak. 50 Cent’s “In da Club” blasts over the radio as you pull into the parking lot of your local\, chain Video rental store. You are permitted to select ONE movie. The carpet is sticky and the staff is unhelpful and rude. Among the disorganized shelves\, you find it – the movie all your friends are quoting\, Mel Brooks’ Robin Hood: Men in Tights. The sticker on the cover reads “PG-13.” Your heart races as you slide the VHS tape onto the counter. Your exhausted parent doesn’t seem to notice. The handheld scanner beeps and the disgruntled teenaged employee slides the tape into a plastic bag. Third grade is gonna be YOUR year\, baby! \nTragically\, many of today’s youth will never know how good we used to have it. BUT you can give them the next best thing! From the mind of Chico Eastridge comes Video Stop II: Bad Video! Visit this pop up VHS store/ art installation December-January\, in the back of JAM to rent movies on VHS like the good ol’ days! Don’t have a way to play it? No problem! VHS players are also available for loan. \nOpen when we feel like it.
URL:https://uvjam.org/event/video-stop-ii-bad-video/
LOCATION:JAM – Junction Arts & Media\, 5 S Main St\, White River Junction\, VT\, 05001\, United States
ATTACH;FMTTYPE=image/png:https://uvjam.org/wp-content/uploads/2025/11/Video-stop.png
END:VEVENT
BEGIN:VEVENT
DTSTART;TZID=America/New_York:20260308T090000
DTEND;TZID=America/New_York:20260308T170000
DTSTAMP:20260420T065455
CREATED:20260129T202418Z
LAST-MODIFIED:20260303T160649Z
UID:10001899-1772960400-1772989200@uvjam.org
SUMMARY:Chronicle on Choice & Consequence
DESCRIPTION:A media arts exhibit in Junction Arts & Media by artist janet e. dandridge. \n“In 2019\, Yrneh Gabon\, Artivist & actor\, invited me to participate in a group show at the 2020 Dakar Biennale. Excited and eager to exhibit in my first international art fair\, I began creating a new live performance work. Then the Covid 19 pandemic happened. In 2022\, the biennale was re-opened and the group show was back on. However\, in 2021\, I became pregnant with my son. Once I became aware of the new dates for the biennale within months of its opening\, I had to make a quick decision\, “Do I withdraw completely\, or do I create a new work in this short period of time?” I realized that I could make a work using a readily accessible medium to convey the love\, the doubt\, the strength\, and the choices that must be made once someone becomes a parent. Chronicle on Choice and Consequence (CCC)\, an intimate video work\, explores the labor of motherhood and of one’s career. CCC reflects on definitions of labor\, and how pregnancy\, delivery\, and childrearing are undervalued. Chronicle on Choice and Consequence contributes to the discourse on improving laws\, and societal and cultural perspectives for Labor Rights and Women’s Rights.” \njanet e. dandridge. Mother\, Interdisciplinary Artivist\, Arts & Activism Educator and Consultant\, Liberator\, Listener\, Empathy Sustainer.
URL:https://uvjam.org/event/chronicle-on-choice-consequence/2026-03-08/
LOCATION:JAM – Junction Arts & Media\, 5 S Main St\, White River Junction\, VT\, 05001\, United States
CATEGORIES:Media Arts Installation
ATTACH;FMTTYPE=image/jpeg:https://uvjam.org/wp-content/uploads/2026/01/7977986_CCC-screenshot-sansborder-JED2022.jpg
END:VEVENT
BEGIN:VEVENT
DTSTART;TZID=America/New_York:20260308T100000
DTEND;TZID=America/New_York:20260308T111500
DTSTAMP:20260420T065455
CREATED:20260129T211453Z
LAST-MODIFIED:20260220T204500Z
UID:10001932-1772964000-1772968500@uvjam.org
SUMMARY:Sunday Southern Brunch
DESCRIPTION:It’s brunch-o-clock somewhere! Join us at the Filling Station for a Sunday Southern Brunch
URL:https://uvjam.org/event/sunday-brunch/
LOCATION:Private: The Filling Station\, 70 Gates St\, White River Junction\, VT\, 05001\, United States
CATEGORIES:Community Events
ATTACH;FMTTYPE=image/webp:https://uvjam.org/wp-content/uploads/2026/01/White-River-Indie-Festival-Crew.webp
END:VEVENT
BEGIN:VEVENT
DTSTART;TZID=America/New_York:20260308T130000
DTEND;TZID=America/New_York:20260308T140000
DTSTAMP:20260420T065455
CREATED:20260129T211556Z
LAST-MODIFIED:20260210T205353Z
UID:10001933-1772974800-1772978400@uvjam.org
SUMMARY:Filmmaker Talkback with Night Fight Director Khary Jones
DESCRIPTION:Night Fight director Khary Jones will discuss his filmmaking process and answer questions from the audience after the screening.
URL:https://uvjam.org/event/filmmaker-talkback-with-night-fight-director-khary-jones/
LOCATION:Briggs Opera House\, 5 S Main St\, White River Junction\, VT\, 05001\, United States
CATEGORIES:Film Festivals
ATTACH;FMTTYPE=image/png:https://uvjam.org/wp-content/uploads/2026/01/talkback-graphic-scaled.png
END:VEVENT
BEGIN:VEVENT
DTSTART;TZID=America/New_York:20260308T161500
DTEND;TZID=America/New_York:20260308T170000
DTSTAMP:20260420T065455
CREATED:20260129T211712Z
LAST-MODIFIED:20260210T213504Z
UID:10001934-1772986500-1772989200@uvjam.org
SUMMARY:The Chronology of Water Post Show Decompression & Guided Discussion
DESCRIPTION:Led by Bailey Ray\, Director of Advocacy at WISE\, decompress and engage in a guided discussion following the screening of The Chronology of Water.  \n 
URL:https://uvjam.org/event/the-chronology-of-water-post-show-decompression-guided-discussion/
LOCATION:Briggs Opera House\, 5 S Main St\, White River Junction\, VT\, 05001\, United States
CATEGORIES:Film Festivals
ATTACH;FMTTYPE=image/png:https://uvjam.org/wp-content/uploads/2026/01/TCOW-POST-SHOW-GRAPHIC-scaled.png
END:VEVENT
BEGIN:VEVENT
DTSTART;TZID=America/New_York:20260308T170000
DTEND;TZID=America/New_York:20260308T180000
DTSTAMP:20260420T065455
CREATED:20260129T211807Z
LAST-MODIFIED:20260216T184753Z
UID:10001935-1772989200-1772992800@uvjam.org
SUMMARY:Community Sing with Jes Raymond
DESCRIPTION:A Common Chorus – spend an hour singing folk songs and original compositions for audience choir by Jes Raymond. All the parts are taught; All experience levels are welcome.  Let’s make a big sound!\n\nJes Raymond is an award-winning songwriter\, singer and multi-instrumentalist. Be a part of this community sing as she leads us in new arrangements of folk songs and debuts new original works for audience choir. All levels of singers are welcome. There will be some accessible harmony taught- all the parts will be available to read but will also be taught by ear- no need to know how to read music.
URL:https://uvjam.org/event/community-sing-with-jes-raymond/
LOCATION:JAM – Junction Arts & Media\, 5 S Main St\, White River Junction\, VT\, 05001\, United States
CATEGORIES:Community Events,Live Music,Live Performance
ATTACH;FMTTYPE=image/png:https://uvjam.org/wp-content/uploads/2026/01/Screenshot-2026-02-10-at-4.23.38-PM-scaled.png
END:VEVENT
BEGIN:VEVENT
DTSTART;TZID=America/New_York:20260308T180000
DTEND;TZID=America/New_York:20260308T230000
DTSTAMP:20260420T065455
CREATED:20260129T202626Z
LAST-MODIFIED:20260211T033241Z
UID:10001908-1772992800-1773010800@uvjam.org
SUMMARY:Light River Junction
DESCRIPTION:For the week of our festival after night falls\, the walls and windows of White River Junction will be transformed into glowing canvases for film and video artists.
URL:https://uvjam.org/event/light-river-junction-2/2026-03-08/
LOCATION:Private: White River Junction Village\, White River Junction
CATEGORIES:Media Arts Installation
ATTACH;FMTTYPE=image/jpeg:https://uvjam.org/wp-content/uploads/2026/01/Light-River-Junction_Dec-2020-scaled.jpeg
END:VEVENT
BEGIN:VEVENT
DTSTART;TZID=America/New_York:20260309T180000
DTEND;TZID=America/New_York:20260309T193000
DTSTAMP:20260420T065455
CREATED:20251125T170303Z
LAST-MODIFIED:20260108T223032Z
UID:10001804-1773079200-1773084600@uvjam.org
SUMMARY:Media Maker Monday
DESCRIPTION:JAM welcomes Media Maker Members and their guests to a work in progress show and tell and peer feedback session.\nHave a screenplay or stage play\, short film rough cut\, documentary project\, podcast in progress\, animation story board\, pitch deck\, or just an idea you have been kicking around for a while? Want to get feedback from peers and meet collaborators and mentors? This group is for YOU! Share your project\, network with other artists\, and see what projects creative people in the Upper Valley are making! \nAll Media Maker Members may take turns sharing works in progress. Guests\, collaborators\, and supporters may attend to listen and give feedback. Click here to become a member! \n\n\n                \n                        \n                            Media Maker Monday RSVP\n                             \n                        \n                        Media Maker Member(Required)\n                            \n                            \n                                                    \n                                                    First\n                                                \n                            \n                            \n                                                    \n                                                    Last\n                                                \n                            \n                        Email(Required)\n                            \n                        Guest(s)JAM Media Maker Members may present a work in progress. Are you interested in presenting your project?(Required)\n			\n					\n					Yes\, please!\n			\n			\n					\n					No thanks! I just want to see what other folks are doing.\n			If you would like to share work\, briefly tell us about your project and what technical accommodations you'll need to present it (projection\, speakers\, mic).\n          \n            \n            \n            \n            \n            \n            \n            \n            \n            \n            \n            \n            \n            \n        \n                        Δ
URL:https://uvjam.org/event/media-maker-monday/2026-03-09/
LOCATION:JAM – Junction Arts & Media\, 5 S Main St\, White River Junction\, VT\, 05001\, United States
ATTACH;FMTTYPE=image/png:https://uvjam.org/wp-content/uploads/2026/01/media-maker-mondays-horizontal.png
END:VEVENT
END:VCALENDAR