BEGIN:VCALENDAR
VERSION:2.0
PRODID:-//Junction Arts &amp; Media - ECPv6.15.14//NONSGML v1.0//EN
CALSCALE:GREGORIAN
METHOD:PUBLISH
X-ORIGINAL-URL:https://uvjam.org
X-WR-CALDESC:Events for Junction Arts &amp; Media
REFRESH-INTERVAL;VALUE=DURATION:PT1H
X-Robots-Tag:noindex
X-PUBLISHED-TTL:PT1H
BEGIN:VTIMEZONE
TZID:America/New_York
BEGIN:DAYLIGHT
TZOFFSETFROM:-0500
TZOFFSETTO:-0400
TZNAME:EDT
DTSTART:20250309T070000
END:DAYLIGHT
BEGIN:STANDARD
TZOFFSETFROM:-0400
TZOFFSETTO:-0500
TZNAME:EST
DTSTART:20251102T060000
END:STANDARD
BEGIN:DAYLIGHT
TZOFFSETFROM:-0500
TZOFFSETTO:-0400
TZNAME:EDT
DTSTART:20260308T070000
END:DAYLIGHT
BEGIN:STANDARD
TZOFFSETFROM:-0400
TZOFFSETTO:-0500
TZNAME:EST
DTSTART:20261101T060000
END:STANDARD
BEGIN:DAYLIGHT
TZOFFSETFROM:-0500
TZOFFSETTO:-0400
TZNAME:EDT
DTSTART:20270314T070000
END:DAYLIGHT
BEGIN:STANDARD
TZOFFSETFROM:-0400
TZOFFSETTO:-0500
TZNAME:EST
DTSTART:20271107T060000
END:STANDARD
END:VTIMEZONE
BEGIN:VEVENT
DTSTART;TZID=America/New_York:20260129T190000
DTEND;TZID=America/New_York:20260129T210000
DTSTAMP:20260420T165136
CREATED:20260112T165202Z
LAST-MODIFIED:20260113T172041Z
UID:10001885-1769713200-1769720400@uvjam.org
SUMMARY:WRIF Preview Screening: It Was Just an Accident @ the HOP
DESCRIPTION:Join us for a White River Indie Festival 2026 Preview Screening event with our friends at the Hopkins Center!\nVahid\, an unassuming mechanic\, is suddenly reminded of his time in an Iranian prison when he has a chance encounter with Eghbal\, a man he strongly suspects to be his sadistic former jailhouse captor. He kidnaps him but nagging uncertainty delays a fatal retribution. Panicked\, Vahid rounds up a few of his fellow ex-prisoners to try and confirm Eghbal’s identity. As the bickering group drives around Tehran with their captive\, they must confront how far to take matters into their own hands with their presumed tormentor. \nMaster filmmaker Jafar Panahi creates a searing moral thriller\, where high-stakes tension combines with unexpected flurries of humor and the thoughtful\, devastating choices between revenge and mercy. Through handheld camerawork and intimate long takes\, Panahi crafts a profound meditation on trauma\, empathy and the corrosive legacy of state violence. \nD: Jafar Panahi\, Iran/France\, subtitled\, 2025\, 1h43m \n  \nTickets: buy on the Hop website.* \n*WRIF Passholders will gain entry for free! Buy passes here. \n  \nFor a full WRIF schedule\, tickets\, film guide\, and other information\, visit the WRIF Homepage.
URL:https://uvjam.org/event/wrif-preview-screening-it-was-just-an-accident-the-hop/
LOCATION:Spaulding Auditorium\, 12 Lebanon Street\, Hanover\, 03755\, United States
ATTACH;FMTTYPE=image/jpeg:https://uvjam.org/wp-content/uploads/2026/01/It-was-just-an-accident-Hop-poster.jpg
END:VEVENT
END:VCALENDAR