BEGIN:VCALENDAR
VERSION:2.0
PRODID:-//Junction Arts &amp; Media - ECPv6.15.14//NONSGML v1.0//EN
CALSCALE:GREGORIAN
METHOD:PUBLISH
X-ORIGINAL-URL:https://uvjam.org
X-WR-CALDESC:Events for Junction Arts &amp; Media
REFRESH-INTERVAL;VALUE=DURATION:PT1H
X-Robots-Tag:noindex
X-PUBLISHED-TTL:PT1H
BEGIN:VTIMEZONE
TZID:America/New_York
BEGIN:DAYLIGHT
TZOFFSETFROM:-0500
TZOFFSETTO:-0400
TZNAME:EDT
DTSTART:20240310T070000
END:DAYLIGHT
BEGIN:STANDARD
TZOFFSETFROM:-0400
TZOFFSETTO:-0500
TZNAME:EST
DTSTART:20241103T060000
END:STANDARD
BEGIN:DAYLIGHT
TZOFFSETFROM:-0500
TZOFFSETTO:-0400
TZNAME:EDT
DTSTART:20250309T070000
END:DAYLIGHT
BEGIN:STANDARD
TZOFFSETFROM:-0400
TZOFFSETTO:-0500
TZNAME:EST
DTSTART:20251102T060000
END:STANDARD
BEGIN:DAYLIGHT
TZOFFSETFROM:-0500
TZOFFSETTO:-0400
TZNAME:EDT
DTSTART:20260308T070000
END:DAYLIGHT
BEGIN:STANDARD
TZOFFSETFROM:-0400
TZOFFSETTO:-0500
TZNAME:EST
DTSTART:20261101T060000
END:STANDARD
END:VTIMEZONE
BEGIN:VEVENT
DTSTART;VALUE=DATE:20250701
DTEND;VALUE=DATE:20250830
DTSTAMP:20260422T110310
CREATED:20250730T010715Z
LAST-MODIFIED:20250730T010715Z
UID:10001769-1751328000-1756511999@uvjam.org
SUMMARY:FLIPPING THE CAMERA: The Makers' Menagerie
DESCRIPTION:We\, the media makers who work at JAM – Junction Arts & Media\, are excited to pull back the curtain and share our creative work at the Norwich Public Library! \n“FLIPPING THE CAMERA: The Makers’ Menagerie” will be on display in the Community Room through August. Check open hours on the calendar here. \nExhibiting JAM Artists: \n\nAna Liu\nArantza Peña Popo\nCedar O’Dowd\nChico Eastridge\nDevon Blanchard\nJordyn Fitch\nMac Harp (in memorium)\nNoah Mauchly\nRichard Neugass\nSamantha Davidson Green
URL:https://uvjam.org/event/flipping-the-camera-the-makers-menagerie/
LOCATION:Norwich Public Library\, 368 Main St\, Norwich\, VT\, 05055\, United States
ATTACH;FMTTYPE=image/png:https://uvjam.org/wp-content/uploads/2025/07/updated-website-event-image-scaled.png
END:VEVENT
BEGIN:VEVENT
DTSTART;TZID=America/New_York:20250718T173000
DTEND;TZID=America/New_York:20250718T190000
DTSTAMP:20260422T110310
CREATED:20250714T175756Z
LAST-MODIFIED:20250717T211906Z
UID:10001766-1752859800-1752865200@uvjam.org
SUMMARY:FLIPPING THE CAMERA: The Makers' Menagerie – Opening Reception at Norwich Public Library
DESCRIPTION:We\, the media makers who work at JAM – Junction Arts & Media\, are excited to pull back the curtain and share our creative work at the Norwich Public Library! Join us for an artists’ reception on Friday\, 7/18 from 5:30PM-7PM on location in Norwich\, VT. \n“FLIPPING THE CAMERA: The Makers’ Menagerie” will be on display in the Community Room through August. \nExhibiting JAM Artists: \n\nAna Liu\nArantza Peña Popo\nCedar O’Dowd\nChico Eastridge\nJordyn Fitch\nMac Harp (in memorium)\nNoah Mauchly\nRichard Neugass\nSamantha Davidson Green
URL:https://uvjam.org/event/flipping-the-camera-the-makers-menagerie-opening-reception/
LOCATION:Norwich Public Library\, 368 Main St\, Norwich\, VT\, 05055\, United States
ATTACH;FMTTYPE=image/png:https://uvjam.org/wp-content/uploads/2025/07/updated-FB-image-scaled.png
END:VEVENT
END:VCALENDAR